BEGIN:VCALENDAR
VERSION:2.0
PRODID:-//wp-events-plugin.com//7.2.3.1//EN
TZID:America/Chicago
X-WR-TIMEZONE:America/Chicago
BEGIN:VEVENT
UID:65@jhtraveltours.com
DTSTART;TZID=America/Chicago:20130626T131500
DTEND;TZID=America/Chicago:20130626T194500
DTSTAMP:20120914T033807Z
URL:https://jhtraveltours.com/events/cookin-with-gus/
SUMMARY:Cookin’ With Gus - #_LOCATIONNAME - 26 Jun 13 13:15
DESCRIPTION:With the chance at her own television show being dangled in fro
 nt of her like a perfectly glazed carrot\, famous cookbook author Gussie R
 ichardson decides to face her fear of the cameras to tape a cooking segmen
 t. With a few post hypnotic suggestions and “help” from the tipsy Gyps
 y next door\, Gussie cooks up a recipe for laughter that will have you bub
 bling like a cheese soufflé.\n\nAfter this “scrumptious” matinee at t
 he Old Creamery Theatre our evening meal of fried chicken and oven baked s
 teak with all the fixin’s will be served family style at the Ox Yoke Inn
 .  Get ready to laugh at Gussie’s antics and be sure to bring along you
 r appetite!
CATEGORIES:Day Trip
LOCATION:#_LOCATIONNAME\, #_LOCATIONFULLLINE\, #_LOCATIONCOUNTRY
GEO:41.8063;-91.8843
X-APPLE-STRUCTURED-LOCATION;VALUE=URI;X-ADDRESS=#_LOCATIONFULLLINE\, #_LOCA
 TIONCOUNTRY;X-APPLE-RADIUS=100;X-TITLE=#_LOCATIONNAME:geo:41.8063,-91.8843
END:VEVENT
BEGIN:VTIMEZONE
TZID:America/Chicago
X-LIC-LOCATION:America/Chicago
BEGIN:DAYLIGHT
DTSTART:20130310T030000
TZOFFSETFROM:-0600
TZOFFSETTO:-0500
TZNAME:CDT
END:DAYLIGHT
END:VTIMEZONE
END:VCALENDAR