BEGIN:VCALENDAR
VERSION:2.0
PRODID:-//wp-events-plugin.com//7.2.3.1//EN
TZID:America/Chicago
X-WR-TIMEZONE:America/Chicago
BEGIN:VEVENT
UID:49@jhtraveltours.com
DTSTART;TZID=America/Chicago;VALUE=DATE:20121126
DTEND;TZID=America/Chicago;VALUE=DATE:20121201
DTSTAMP:20120828T042758Z
URL:https://jhtraveltours.com/events/country-christmas/
SUMMARY:Country Christmas - #_LOCATIONNAME - 26 Nov 12 00:00
DESCRIPTION:Day #1   C   Monday\, November 26\, 2012\nWelcome aboard! S
 it back and relax as we travel across Iowa\, Illinois\, and Indiana on our
   way to our first overnight stay in Louisville\, KY. With the holiday fe
 stivities just starting we check into the Galt House for a one night stay.
   After check in we stroll  through a  display of lights called KaLight
 oscope located in the hotel. This evening we have reserved seats at the 
 “Colors of the Season” Dinner Show. (D)
ATTACH;FMTTYPE=image/jpeg:https://jhtraveltours.com/wp-content/uploads/201
 2/05/CountryChristmas2012.jpg
CATEGORIES:Extended Trip
END:VEVENT
BEGIN:VTIMEZONE
TZID:America/Chicago
X-LIC-LOCATION:America/Chicago
BEGIN:STANDARD
DTSTART:20121104T010000
TZOFFSETFROM:-0500
TZOFFSETTO:-0600
TZNAME:CST
END:STANDARD
END:VTIMEZONE
END:VCALENDAR