BEGIN:VCALENDAR
VERSION:2.0
PRODID:-//wp-events-plugin.com//7.2.3.1//EN
TZID:America/Chicago
X-WR-TIMEZONE:America/Chicago
BEGIN:VEVENT
UID:235@jhtraveltours.com
DTSTART;TZID=America/Chicago:20180304T153000
DTEND;TZID=America/Chicago:20180304T223000
DTSTAMP:20170828T024900Z
URL:https://jhtraveltours.com/events/daniel-odonnell-2018/
SUMMARY:Daniel O'Donnell 2018 - #_LOCATIONNAME - 4 Mar 18 15:30
DESCRIPTION: \n\nOne of Ireland’s best loved artists\, Daniel O’Donnell
  is returning to tour in the United States with an evening show at the Des
  Moines Performing Arts in Des Moines\, Iowa.\n\nThe Irish singer made rec
 ord-breaking chart history earlier this year by becoming the first recordi
 ng artist in the history of the UK Artist Album Chart to have charted at l
 east one new album every year since 1988\, an unprecedented and unbroken 2
 9 year span\, surpassing everyone from Michael Jackson\, the Rolling Stone
 s\, Madonna and Irish strongholds U2.  Along with this\, Daniel makes reg
 ular appearances in the Billboard World Music Chart.\n\nOur host for the e
 vening meal prior to the show will be Texas Roadhouse in Urbandale.  A ma
 in entree choice will need to be given when making a reservation in which 
 the entrees are:  1).  6 oz Sirloin dinner  2). Pulled pork dinner  3)
 . Grilled salmon dinner. Each plate will be served with a choice of two si
 des\, drink and dessert - which can be given upon arrival.\n\nReservations
  are very limited and please make note of the deadline as it is an early o
 ne!\n\nDepart:  3:30 p.m.\nReturn:  10:30 p.m.\n\nCost Per Person:  $16
 6.00\n\nReservations and payment due by January 12\, 2018 
ATTACH;FMTTYPE=image/jpeg:https://jhtraveltours.com/wp-content/uploads/201
 7/08/Daniel-O-Donnell-Header.png
CATEGORIES:Day Trip
END:VEVENT
BEGIN:VTIMEZONE
TZID:America/Chicago
X-LIC-LOCATION:America/Chicago
BEGIN:STANDARD
DTSTART:20171105T010000
TZOFFSETFROM:-0500
TZOFFSETTO:-0600
TZNAME:CST
END:STANDARD
END:VTIMEZONE
END:VCALENDAR