BEGIN:VCALENDAR
VERSION:2.0
PRODID:-//wp-events-plugin.com//7.2.3.1//EN
TZID:America/Chicago
X-WR-TIMEZONE:America/Chicago
BEGIN:VEVENT
UID:182@jhtraveltours.com
DTSTART;TZID=America/Chicago:20161008T121500
DTEND;TZID=America/Chicago:20161008T181500
DTSTAMP:20160201T060316Z
URL:https://jhtraveltours.com/events/dean-martin-tribute/
SUMMARY:Dean Martin Tribute - #_LOCATIONNAME - 8 Oct 16 12:15
DESCRIPTION:Robbie Howard\, direct from Las Vegas is a singing impressionis
 t.  He is currently a cast member of "The Rat Pack is Back" and was hired
  to perform as Dean Martin and Frank Sinatra. He wrote the material and di
 rected as well. He will be performing "Everybody Loves Somebody"\, "That's
  Amore"\, "You Belong to Me" and "Your Nobody till Somebody Loves You" wit
 h lots of Dean Martin humor.  He will also be doing impressions of Andy W
 illiams\, Tony Bennett\, Bobby Vinton\, with comedy monologue by Johnny Ca
 rson\, Righteous Brothers\, George Jones and a few more.\n\nEnjoy our prem
 ium seating for this tribute at the Old Creamery followed by an evening me
 al at the Ox Yoke Inn in Amana.  A musical nostalgic ride down memory lan
 e\, "yummy" food at the Ox Yoke Inn and a great time with friends!\n\nDepa
 rt:  12:15 p.m.\nReturn:  6:15 p.m.\n\nCost Per Person:  $118.00\n\nRes
 ervation and payment due by September 21\, 2016 
ATTACH;FMTTYPE=image/jpeg:https://jhtraveltours.com/wp-content/uploads/201
 6/01/DeanMartinTribute.jpg
CATEGORIES:Day Trip
END:VEVENT
BEGIN:VTIMEZONE
TZID:America/Chicago
X-LIC-LOCATION:America/Chicago
BEGIN:DAYLIGHT
DTSTART:20160313T030000
TZOFFSETFROM:-0600
TZOFFSETTO:-0500
TZNAME:CDT
END:DAYLIGHT
END:VTIMEZONE
END:VCALENDAR