BEGIN:VCALENDAR
VERSION:2.0
PRODID:-//wp-events-plugin.com//7.2.3.1//EN
TZID:America/Chicago
X-WR-TIMEZONE:America/Chicago
BEGIN:VEVENT
UID:272@jhtraveltours.com
DTSTART;TZID=America/Chicago:20190403T091500
DTEND;TZID=America/Chicago:20190403T184500
DTSTAMP:20180713T215141Z
URL:https://jhtraveltours.com/events/diamonds-divas/
SUMMARY:Diamonds & Divas - #_LOCATIONNAME - 3 Apr 19 09:15
DESCRIPTION:April 3\, 2019 (Wednesday)\n\nJoin JH Travel for this . . . . H
 ilarious Brand New "Whodunit — And What The Heck Did They Do?!"\n\nAct
 ors\, thieves\, and egos run hilariously amok at the Cannes Film Festival 
 in France — What could possibly go wrong? In a luxury hotel\, the body o
 f a beautiful film star lies on the floor. A hooded jewel thief breaks in 
 and discovers her. A man bursts in and assumes the thief is the murderer. 
 Another man enters and assumes a different story. The hotel manager arrive
 s and attempts to make sense of all their stories. A huge film premiere is
  looming\, a diamond necklace has gone missing\, scandalous affairs are ab
 out to hit the headlines\, and everyone appears to be trying to murder som
 eone while blaming everyone else! Laugh along with the high jinks as the m
 ystery is unraveled. Circa ‘21 is proud to be the first professional the
 atre in the U.S. to produce this madcap comedy! \n\nSounds pretty exciting
  and you sure don't want to miss this madcap adventure!! Please don't wait
  too long to make those reservations!\n\nDepart:  9:15 a.m.\nReturn: 6:45
  p.m.\n\nCost Per Person: $139.00\n\nReservation and payment due by March 
 14\, 2019 
ATTACH;FMTTYPE=image/jpeg:https://jhtraveltours.com/wp-content/uploads/201
 8/07/Trip-Header-4.png
CATEGORIES:Day Trip
END:VEVENT
BEGIN:VTIMEZONE
TZID:America/Chicago
X-LIC-LOCATION:America/Chicago
BEGIN:DAYLIGHT
DTSTART:20190310T030000
TZOFFSETFROM:-0600
TZOFFSETTO:-0500
TZNAME:CDT
END:DAYLIGHT
END:VTIMEZONE
END:VCALENDAR