BEGIN:VCALENDAR
VERSION:2.0
PRODID:-//wp-events-plugin.com//7.2.3.1//EN
TZID:America/Chicago
X-WR-TIMEZONE:America/Chicago
BEGIN:VEVENT
UID:367@jhtraveltours.com
DTSTART;TZID=America/Chicago:20220803T091500
DTEND;TZID=America/Chicago:20220803T183000
DTSTAMP:20220314T154732Z
URL:https://jhtraveltours.com/events/disaster-the-musical/
SUMMARY:Disaster - The Musical - #_LOCATIONNAME - 3 Aug 22 09:15
DESCRIPTION:Join JH Travel for this fun\, matinee show at Circa 21 Dinner P
 layhouse located in Rock Island\, IL! Audiences and critics are wild for t
 his hilarious homage to the era of bell-bottoms\, platform shoes and the h
 ustle. With larger-than-life characters\, snappy dialogue and some of the 
 most recognizable songs of the ‘70s — such as as “Hooked on a Feelin
 g\,” “Hot Stuff\,” and “I Will Survive" — Disaster! will leave y
 ou dancing in your seat and rolling in the aisles.\n\nEarthquakes\, tidal 
 waves\, infernos and the unforgettable songs of the ‘70s take center sta
 ge in Broadway’s side-splitting homage to classic disaster films.\n\nIt
 ’s 1979\, and New York’s hottest A-listers are lining up for the openi
 ng of a floating casino and discotheque. Also attending is a faded disco s
 tar\, a sexy nightclub singer with her eleven-year-old twins\, a disaster 
 expert\, a feminist reporter\, an older couple with a secret\, a pair of y
 oung guys who are looking for ladies\, an untrustworthy businessman and a 
 nun with a gambling addiction. What begins as a night of boogie fever quic
 kly changes to panic as the ship succumbs to multiple disasters. As the ni
 ght turns into day\, everyone struggles to survive!\n\nInvite a friend or 
 a family member and come along with us to enjoy this fun afternoon!\n\nDep
 art:  9:15 a.m.\n\nReturn:  6:30 p.m.\n\nCost Per Person:  $152.00\n\nR
 eservation and payment due by June 24\, 2022
CATEGORIES:Day Trip
END:VEVENT
BEGIN:VTIMEZONE
TZID:America/Chicago
X-LIC-LOCATION:America/Chicago
BEGIN:DAYLIGHT
DTSTART:20220313T030000
TZOFFSETFROM:-0600
TZOFFSETTO:-0500
TZNAME:CDT
END:DAYLIGHT
END:VTIMEZONE
END:VCALENDAR