BEGIN:VCALENDAR
VERSION:2.0
PRODID:-//wp-events-plugin.com//7.2.3.1//EN
TZID:America/Chicago
X-WR-TIMEZONE:America/Chicago
BEGIN:VEVENT
UID:379@jhtraveltours.com
DTSTART;TZID=America/Chicago;VALUE=DATE:20231009
DTEND;TZID=America/Chicago;VALUE=DATE:20231013
DTSTAMP:20230203T063723Z
URL:https://jhtraveltours.com/events/door-county-fall-foliage/
SUMMARY:Door County Fall Foliage - #_LOCATIONNAME - 9 Oct 23 00:00
DESCRIPTION:[pdf-embedder url="https://jhtraveltours.com/wp-content/uploads
 /2022/08/Door-County-Fall-Foliage-IT.pdf" title="Door County Fall Foliage 
 IT"]\n\n&nbsp\;\n\n&nbsp\;\nSign up for our newsletter to get exclusive in
 formation!\n[mc4wp_form id=648]
ATTACH;FMTTYPE=image/jpeg:https://jhtraveltours.com/wp-content/uploads/202
 2/08/door-county-e1675229466612-1.png
CATEGORIES:Short Trip
END:VEVENT
BEGIN:VTIMEZONE
TZID:America/Chicago
X-LIC-LOCATION:America/Chicago
BEGIN:DAYLIGHT
DTSTART:20230312T030000
TZOFFSETFROM:-0600
TZOFFSETTO:-0500
TZNAME:CDT
END:DAYLIGHT
END:VTIMEZONE
END:VCALENDAR