BEGIN:VCALENDAR
VERSION:2.0
PRODID:-//wp-events-plugin.com//7.2.3.1//EN
TZID:America/Chicago
X-WR-TIMEZONE:America/Chicago
BEGIN:VEVENT
UID:293@jhtraveltours.com
DTSTART;TZID=America/Chicago:20190801T121500
DTEND;TZID=America/Chicago:20190801T193000
DTSTAMP:20190617T161525Z
URL:https://jhtraveltours.com/events/doublewide-texas/
SUMMARY:Doublewide\, Texas - #_LOCATIONNAME - 1 Aug 19 12:15
DESCRIPTION:\n\nIf you enjoyed "The Dixie Swim Club" &amp\; "The Savannah S
 ipping Society" shown last year at the Old Creamery Theatre then you don't
  want to miss this comedy matinee show written by same writers!\n\nThe inh
 abitants of the smallest trailer park in Texas (four doublewides and a she
 d) will do anything to avoid being annexed by the nearby town of Tugaloo a
 nd owing city taxes… even if they have to secede from Texas! Doublewide\
 , Texas will have you doubled over with laughter!\n\nFollowing the matinee
  show our group will be hosted by Coffee Cup Cafe in Sully\, IA for a down
  home cooked meal with broasted chicken &amp\; mashed potatoes with gravy 
 and . . . of course a piece of homemade pie for dessert!\n\nDepart: 12:15 
 p.m.\n\nReturn:  7:30 p.m.\n\nCost Per Person:  $114.00\n\nReservation a
 nd payment due by July 11\, 2019 
ATTACH;FMTTYPE=image/jpeg:https://jhtraveltours.com/wp-content/uploads/201
 9/01/DoubleWide-e1560788091626.png
CATEGORIES:Day Trip
END:VEVENT
BEGIN:VTIMEZONE
TZID:America/Chicago
X-LIC-LOCATION:America/Chicago
BEGIN:DAYLIGHT
DTSTART:20190310T030000
TZOFFSETFROM:-0600
TZOFFSETTO:-0500
TZNAME:CDT
END:DAYLIGHT
END:VTIMEZONE
END:VCALENDAR