BEGIN:VCALENDAR
VERSION:2.0
PRODID:-//wp-events-plugin.com//7.2.3.1//EN
TZID:America/Chicago
X-WR-TIMEZONE:America/Chicago
BEGIN:VEVENT
UID:284@jhtraveltours.com
DTSTART;TZID=America/Chicago:20190714T121500
DTEND;TZID=America/Chicago:20190714T191500
DTSTAMP:20181230T035013Z
URL:https://jhtraveltours.com/events/doug-gabriel-family-direct-from-brans
 on/
SUMMARY:Doug Gabriel & Family: Direct from Branson - #_LOCATIONNAME - 14 Ju
 l 19 12:15
DESCRIPTION:Doug Gabriel &amp\; Family: Direct from Branson\n\nJuly 14\, 20
 19 (Sunday) \n\nAn afternoon of music &amp\; comedy followed by an evening
  meal at the English Valley B &amp\; B near Montezuma\, IA! Be sure to bri
 ng along your appetite as Stacy &amp\; her gang will be cooking a wonderfu
 l meal for us!\n\nBranson's Doug Gabriel is that rare artist who can bel
 t out a song and you’ll swear he’s Roy Orbison... or maybe Michael Bol
 ton... or could it be Elvis Presley? You get the idea. This guy can SING!
  Not that he needs help commanding the stage\, but his family joins him\, 
 and they’re simply delightful. God-given talent runs in this family! Not
  many shows can expertly deliver music from so many genres\, but the Gabr
 iels certainly can...pop\, rock\, country\, gospel\, and your 50’s favo
 rites.  Doug Gabriel and his family provide a good\, clean family show wi
 th a lot of variety\, rib-tickling comedy\, and terrific musicians. Come s
 ee a show that is sure to make your day!\n\nCheck your calendar\, make res
 ervations and on July 14th sit back &amp\; relax while enjoying this talen
 ted family show! How about Doug's "Mufftar" that he plays - sound familiar
 ?\n\nDepart:  12:15 p.m.\n\nReturn:  7:15 p.m.\n\nCost Per Person: $118.
 00\n\nReservation and payment due by June 7\, 2019
ATTACH;FMTTYPE=image/jpeg:https://jhtraveltours.com/wp-content/uploads/201
 8/12/Doug-Gabriel.png
CATEGORIES:Day Trip
END:VEVENT
BEGIN:VTIMEZONE
TZID:America/Chicago
X-LIC-LOCATION:America/Chicago
BEGIN:DAYLIGHT
DTSTART:20190310T030000
TZOFFSETFROM:-0600
TZOFFSETTO:-0500
TZNAME:CDT
END:DAYLIGHT
END:VTIMEZONE
END:VCALENDAR