BEGIN:VCALENDAR
VERSION:2.0
PRODID:-//wp-events-plugin.com//7.2.3.1//EN
TZID:America/Chicago
X-WR-TIMEZONE:America/Chicago
BEGIN:VEVENT
UID:242@jhtraveltours.com
DTSTART;TZID=America/Chicago:20180516T091500
DTEND;TZID=America/Chicago:20180516T181500
DTSTAMP:20170927T005258Z
URL:https://jhtraveltours.com/events/dream-lover-salute-bobby-darin/
SUMMARY:Dream Lover: Salute to Bobby Darin - #_LOCATIONNAME - 16 May 18 09:
 15
DESCRIPTION:Join JH Travel for this matinee show that will present you with
  so many great memories of Bobby Darin at Circa 21 Dinner Playhouse in May
 !\n\nThis is one of a kind production that brings back your classic favori
 tes! Moving effortlessly between genres with smooth vocals\, electrifying 
 stage presence and trademark charm\, no entertainer in history has defied 
 categorization quite like Bobby Darin. National touring artist Robert Shaw
  and a swingin' live band capture Bobby Darin's unique spirit and music ve
 rsatility. Enjoy chart-toppers from "Splish Splash" and "Dream Lover" to t
 he big band classics "Beyond the Sea" and "Mack the Knife".\n\nYou will be
  humming along with your favorites! This will be a favorite show for many!
 \n\nDepart:  9:15 a.m.\n\nReturn:  6:15 p.m.\n\nCost Per Person: $138.00
 \n\nReservation and payment due by April 9\, 2018 
ATTACH;FMTTYPE=image/jpeg:https://jhtraveltours.com/wp-content/uploads/201
 7/09/RobertShawBobbyDarin4.jpg
CATEGORIES:Day Trip
END:VEVENT
BEGIN:VTIMEZONE
TZID:America/Chicago
X-LIC-LOCATION:America/Chicago
BEGIN:DAYLIGHT
DTSTART:20180311T030000
TZOFFSETFROM:-0600
TZOFFSETTO:-0500
TZNAME:CDT
END:DAYLIGHT
END:VTIMEZONE
END:VCALENDAR