BEGIN:VCALENDAR
VERSION:2.0
PRODID:-//wp-events-plugin.com//7.2.3.1//EN
TZID:America/Chicago
X-WR-TIMEZONE:America/Chicago
BEGIN:VEVENT
UID:261@jhtraveltours.com
DTSTART;TZID=America/Chicago;VALUE=DATE:20190125
DTEND;TZID=America/Chicago;VALUE=DATE:20190203
DTSTAMP:20180717T012447Z
URL:https://jhtraveltours.com/events/eastern-caribbean-get-way/
SUMMARY:Eastern Caribbean Get-A-Way - #_LOCATIONNAME - 25 Jan 19 00:00
DESCRIPTION:[gview file="https://jhtraveltours.com/wp-content/uploads/2018/
 02/JH-Travel-Eastern-Caribbean-Get-A-Way-proof-4-25-18-1.pdf"]
ATTACH;FMTTYPE=image/jpeg:https://jhtraveltours.com/wp-content/uploads/201
 8/02/Caribbean.png
CATEGORIES:Extended Trip
END:VEVENT
BEGIN:VTIMEZONE
TZID:America/Chicago
X-LIC-LOCATION:America/Chicago
BEGIN:STANDARD
DTSTART:20181104T010000
TZOFFSETFROM:-0500
TZOFFSETTO:-0600
TZNAME:CST
END:STANDARD
END:VTIMEZONE
END:VCALENDAR