BEGIN:VCALENDAR
VERSION:2.0
PRODID:-//wp-events-plugin.com//7.2.3.1//EN
TZID:America/Chicago
X-WR-TIMEZONE:America/Chicago
BEGIN:VEVENT
UID:228@jhtraveltours.com
DTSTART;TZID=America/Chicago:20171129T091500
DTEND;TZID=America/Chicago:20171129T184500
DTSTAMP:20170714T012859Z
URL:https://jhtraveltours.com/events/elf-the-musical/
SUMMARY:Elf - The Musical - #_LOCATIONNAME - 29 Nov 17 09:15
DESCRIPTION:Join JH Travel for this comedy matinee show that is a rewarding
  story about Buddy at the Circa 21 Dinner Playhouse in Rock Island\, IL.\n
 \nBuddy\, a young orphan\, mistakenly crawls into Santa's bag of gifts and
  is transported to the North Pole. The would-be elf is raised\, unaware th
 at he is actually a human\, until his enormous size and poor toy-making ab
 ilities cause him to face the truth.  With Santa's permission\, Buddy emb
 arks on a journey to New York City to find his birth father and discover h
 is true identity.  Faced with the harsh realities that his father is on t
 he naughty list and his half-brother doesn't even believe in Santa\, Buddy
  is determined to win over his new family and help New York remember the t
 rue meaning of Christmas!\n\nThis modern day holiday classic is sure to ma
 ke everyone embrace their inner elf. After all\, the best way to spread Ch
 ristmas Cheer is singing loud for all to hear!\n\nHope to have you join us
  on this holiday classic! A fast food stop will be made on our way back to
  Newton after the matinee show.\n\n&nbsp\;\n\nDepart:  9:15 a.m.\nReturn:
   6:45 p.m.\n\nCost Per Person:  $124.00\n\nReservation and payment due 
 by October 25\, 2017 
ATTACH;FMTTYPE=image/jpeg:https://jhtraveltours.com/wp-content/uploads/201
 7/07/elflogo.jpeg
CATEGORIES:Day Trip
END:VEVENT
BEGIN:VTIMEZONE
TZID:America/Chicago
X-LIC-LOCATION:America/Chicago
BEGIN:STANDARD
DTSTART:20171105T010000
TZOFFSETFROM:-0500
TZOFFSETTO:-0600
TZNAME:CST
END:STANDARD
END:VTIMEZONE
END:VCALENDAR