BEGIN:VCALENDAR
VERSION:2.0
PRODID:-//wp-events-plugin.com//7.2.3.1//EN
TZID:America/Chicago
X-WR-TIMEZONE:America/Chicago
BEGIN:VEVENT
UID:181@jhtraveltours.com
DTSTART;TZID=America/Chicago:20161005T070000
DTEND;TZID=America/Chicago:20161005T204500
DTSTAMP:20160201T055401Z
URL:https://jhtraveltours.com/events/fall-mystery-trip-2016/
SUMMARY:Fall Mystery Trip 2016 - #_LOCATIONNAME - 5 Oct 16 07:00
DESCRIPTION:We have a mystery packed day for you! This town has several uni
 que businesses and attractions\n\nso get ready for an adventuresome day! W
 e are excited to share this fun day with you!\n\nOur day will begin with a
  morning snack and at the light at the end of the tunnel we will discover 
 more about this business! This next business manufacturers ? sets and ? ? 
 - hum\, wonder what this will be?? This next company is unique among publi
 shing companies for preserving a nearly complete archive of all publicatio
 ns\, dating back to 1886.  Special wood oven pizza will be prepared for u
 s followed by a stop to check out a product named after a Dutch town.\n\nA
  little downtown shopping next and then onto a "Lion King" character to le
 arn about the art of "roasting" as in a task that makes people very happy 
 in the mornings!  Our group will then be divided up into two groups with 
 one group traveling on a tram and the other visiting a main stay of the co
 mmunity.  This store promises that it is more than just a ? store! We wil
 l visit a "roost" for our evening meal and eat in a barn where a very spec
 ial\, homemade meal will be served for our group.\n\nDepart:  7:00 a.m.\n
 Return:  8:45 p.m.\n\nCost Per Person: $137.00\n\nReservation and payment
  due by September 16\, 2016 
ATTACH;FMTTYPE=image/jpeg:https://jhtraveltours.com/wp-content/uploads/201
 6/01/Fall_Mystery_2016.jpg
CATEGORIES:Day Trip
END:VEVENT
BEGIN:VTIMEZONE
TZID:America/Chicago
X-LIC-LOCATION:America/Chicago
BEGIN:DAYLIGHT
DTSTART:20160313T030000
TZOFFSETFROM:-0600
TZOFFSETTO:-0500
TZNAME:CDT
END:DAYLIGHT
END:VTIMEZONE
END:VCALENDAR