BEGIN:VCALENDAR
VERSION:2.0
PRODID:-//wp-events-plugin.com//7.2.3.1//EN
TZID:America/Chicago
X-WR-TIMEZONE:America/Chicago
BEGIN:VEVENT
UID:278@jhtraveltours.com
DTSTART;TZID=America/Chicago:20190906T070000
DTEND;TZID=America/Chicago:20190906T204500
DTSTAMP:20190617T163133Z
URL:https://jhtraveltours.com/events/floyd-iowa-gospel-sing-2019/
SUMMARY:Floyd Iowa Gospel Sing - 2019 - #_LOCATIONNAME - 6 Sep 19 07:00
DESCRIPTION:Join JH Travel for our first trip to the "Floyd Iowa Gospel Sin
 g"! Bring along your favorite lawn chair  and sit back &amp\; relax! Enjo
 y old time gospel\, southern &amp\; country gospel along with some progres
 sive music and a couple Bluegrass groups. Upon arrival we have a reserved 
 spot that will be marked for our group.  The city park provides a beautif
 ul back drop as an individual or quartet will sing every 20 minutes. Food/
 craft vendors are arranged around the outside of the park and inside the c
 hurch. You may choose whichever provider entices your taste buds for lunch
  (on your own).  If there is a musician that you particularly like they w
 ill most likely have a table to purchase additional music to take home &am
 p\; enjoy - also located around the park.\n\n\n\nA very nice meal evening 
 meal (included) will be served in the community center at 5:00 p.m. before
  we board the Hawkeye Stages coach for our ride back to Newton with fond m
 emories of a wonderful day listening to a variety of gospel music!\n\nPlea
 se note: A labeled lawn chair with your name on it is required for this tr
 ip. Lawn chairs will be stored in the coaches bay and unloaded/loaded at t
 he park. This is an outside activity so dress according - maybe a light co
 at or sun visor. (Inclement weather the gospel sing will be held inside th
 e community center or church). A free will offering will be taken with the
  donation going to their Christian school - we have included a donation in
  the trip cost to be given to Lighthouse Academy. \n\nDepart:  7:00 a.m.\
 nReturn:  8:45 p.m.\n\nCost Per Person: $119.00\n\nReservation and paymen
 t due by August 1\, 2019
ATTACH;FMTTYPE=image/jpeg:https://jhtraveltours.com/wp-content/uploads/201
 8/10/Gospel-Sing-2019.png
CATEGORIES:Day Trip
END:VEVENT
BEGIN:VTIMEZONE
TZID:America/Chicago
X-LIC-LOCATION:America/Chicago
BEGIN:DAYLIGHT
DTSTART:20190310T030000
TZOFFSETFROM:-0600
TZOFFSETTO:-0500
TZNAME:CDT
END:DAYLIGHT
END:VTIMEZONE
END:VCALENDAR