BEGIN:VCALENDAR
VERSION:2.0
PRODID:-//wp-events-plugin.com//7.2.3.1//EN
TZID:America/Chicago
X-WR-TIMEZONE:America/Chicago
BEGIN:VEVENT
UID:203@jhtraveltours.com
DTSTART;TZID=America/Chicago:20170914T121500
DTEND;TZID=America/Chicago:20170914T190000
DTSTAMP:20160822T024528Z
URL:https://jhtraveltours.com/events/footloose/
SUMMARY:Footloose - #_LOCATIONNAME - 14 Sep 17 12:15
DESCRIPTION:Don't miss this musical at the Old Creamery Theatre! Enjoy our 
 premium seating with front &amp\; center seating for your listening and vi
 sual enjoyment!\n\nWhen Ren and his mother move from Chicago to a small fa
 rming town\, Ren isn't prepared for a local ban on dancing.  With rockin'
  rhythm from its Oscar nominated top 40 score and dynamic new songs added 
 for the stage musical\, Footloose celebrates the wisdom of listening to yo
 ung people\, while guiding them with a warm heart and an open mind. One of
  the most explosive move musicals in recent time bursts onto the live stag
 e with exhilarating results!\n\nAfter this matinee show our evening meal w
 ill be at PHAT Daddy's in Amana\, Iowa where salad\, bread and wood oven p
 izza await our group followed by dessert. Sounds "yummy" and we hope that 
 you will join JH Travel for this fun afternoon!\n\nDepart:  12:15 p.m.\nR
 eturn:  7:00 p.m.\n\nCost Per Person:  $103.00\n\nReservation and paymen
 t due by August 25\, 2017 
ATTACH;FMTTYPE=image/jpeg:https://jhtraveltours.com/wp-content/uploads/201
 6/08/Footloose.png
CATEGORIES:Day Trip
END:VEVENT
BEGIN:VTIMEZONE
TZID:America/Chicago
X-LIC-LOCATION:America/Chicago
BEGIN:DAYLIGHT
DTSTART:20170312T030000
TZOFFSETFROM:-0600
TZOFFSETTO:-0500
TZNAME:CDT
END:DAYLIGHT
END:VTIMEZONE
END:VCALENDAR