BEGIN:VCALENDAR
VERSION:2.0
PRODID:-//wp-events-plugin.com//7.2.3.1//EN
TZID:America/Chicago
X-WR-TIMEZONE:America/Chicago
BEGIN:VEVENT
UID:37@jhtraveltours.com
DTSTART;TZID=America/Chicago:20120912T131500
DTEND;TZID=America/Chicago:20120912T201500
DTSTAMP:20120318T024819Z
URL:https://jhtraveltours.com/events/fox-on-the-fairway/
SUMMARY:Fox on the Fairway - #_LOCATIONNAME - 12 Sep 12 13:15
DESCRIPTION:The Fox on the Fairway takes audiences on a hilarious romp whic
 h pulls the rug out from underneath the stuffy denizens of a private count
 ry club. It’s time once again for the annual golf tournament between riv
 al country clubs.  A large bet is wagered on the outcome of this year’s
  event with the winner seemingly to be the one who can bend the rules the 
 best.  Expect the unexpected in this brand-new chaotic comedy by the auth
 or of Lend Me A Tenor and Moon Over Buffalo. Filled with mistaken identiti
 es\, slamming doors\, and over-the-top romantic shenanigans\, it's a charm
 ingly madcap adventure about love\, life\, and man's eternal love affair w
 ith golf.  This show will keep you howling until the last putt gets sunk.
 \n\nLinden House in Lynnville will host the JH Travel group with a scrumpt
 ious family style meal before departing for the return trip back to Newton
 !  Sign up soon as this is a great way to meet new friends with entertain
 ment and a meal included!\n\nReservation and payment due by August 24\, 20
 12 
CATEGORIES:Day Trip
END:VEVENT
BEGIN:VTIMEZONE
TZID:America/Chicago
X-LIC-LOCATION:America/Chicago
BEGIN:DAYLIGHT
DTSTART:20120311T030000
TZOFFSETFROM:-0600
TZOFFSETTO:-0500
TZNAME:CDT
END:DAYLIGHT
END:VTIMEZONE
END:VCALENDAR