BEGIN:VCALENDAR
VERSION:2.0
PRODID:-//wp-events-plugin.com//7.2.3.1//EN
TZID:America/Chicago
X-WR-TIMEZONE:America/Chicago
BEGIN:VEVENT
UID:46@jhtraveltours.com
DTSTART;TZID=America/Chicago:20121212T131500
DTEND;TZID=America/Chicago:20121212T194500
DTSTAMP:20120503T030325Z
URL:https://jhtraveltours.com/events/g-i-holiday-jukebox/
SUMMARY:G. I. Holiday Jukebox - #_LOCATIONNAME - 12 Dec 12 13:15
DESCRIPTION:G.I. Holiday Jukebox is a salute to the Stage Door Canteen of t
 he 1940s. Set during WWII\, Christmas time\, the show features four fictit
 ious Hollywood stars that put together a string of 1940s hits and Christma
 s music to entertain "the boys" at the front. Filled with great standards\
 , holiday music\, and comedy\, the show is reminiscent of the USO shows of
  days gone by. With songs like “Baby\, It’s Cold Outside”\, “I’l
 l be Home for Christmas”\, “White Christmas” and “Winter Wonderlan
 d”.  The cast sings some of the best music of the twentieth century\, i
 ncluding tributes to The Andrews Sisters\, Bing Crosby\, Spike Jones\, and
  many more.\n\nFollowing this wonderful holiday show at the Old Creamery T
 heatre we will enjoy a meal at Ox Yoke Inn with our favorite Amana fixings
  served family style!  Our main entrees include:  fried chicken\, smoked
  ham and of course dessert!  Come along and join us for this special holi
 day production!\n\nDepart:  1:15 p.m.\n\nReturn:  7:45 p.m.\n\nReservati
 on and payment due by November 16\, 2012
CATEGORIES:Day Trip
LOCATION:#_LOCATIONNAME\, #_LOCATIONFULLLINE\, #_LOCATIONCOUNTRY
GEO:41.8063;-91.8843
X-APPLE-STRUCTURED-LOCATION;VALUE=URI;X-ADDRESS=#_LOCATIONFULLLINE\, #_LOCA
 TIONCOUNTRY;X-APPLE-RADIUS=100;X-TITLE=#_LOCATIONNAME:geo:41.8063,-91.8843
END:VEVENT
BEGIN:VTIMEZONE
TZID:America/Chicago
X-LIC-LOCATION:America/Chicago
BEGIN:STANDARD
DTSTART:20121104T010000
TZOFFSETFROM:-0500
TZOFFSETTO:-0600
TZNAME:CST
END:STANDARD
END:VTIMEZONE
END:VCALENDAR