BEGIN:VCALENDAR
VERSION:2.0
PRODID:-//wp-events-plugin.com//7.2.3.1//EN
TZID:America/Chicago
X-WR-TIMEZONE:America/Chicago
BEGIN:VEVENT
UID:225@jhtraveltours.com
DTSTART;TZID=America/Chicago:20170729T060000
DTEND;TZID=America/Chicago:20170730T190000
DTSTAMP:20170215T035941Z
URL:https://jhtraveltours.com/events/galena-getaway/
SUMMARY:Galena Getaway - #_LOCATIONNAME - 29 Jul 17 06:00
DESCRIPTION:July 29 - 30\, 2017 (Saturday &amp\; Sunday)\n\nWe are excited 
 and hope you too for this weekend trip that offers a variety of activities
  all in just two days!\n\n[caption id="attachment_884" align="alignleft" w
 idth="300"] Downtown Galena\, IL[/caption]\n\nOur destination is historic 
 Galena with a morning stop at Kava House for coffee &amp\; scones on the w
 ay and then onto Galena! Our hotel accommodation is conveniently located d
 owntown Galena so you can rest\, get a massage or shop the rest of the day
  with just walking a few steps to the hotel! Enjoy the day as we have rese
 rvations for an evening meal at Timmerman's Supper Club where you will hav
 e a choice of main entree which includes:  1). Chicken Cordon Bleu with r
 ice 2). Grilled Salmon with baked potato 3). 5 oz Filet Mignon with baked 
 potato.  Each meal is served with a salad\, rolls and non-alcoholic drink
  with dessert.\n\nOn Sunday we begin the day with Sunday Brunch which is s
 erved in the Courtyard Restaurant at the hotel. This brunch offers a wide 
 range of pastries\, fruit\, meats and we promise you will not leave hungry
 ! Then it is "All Aboard" on the Galena Trolley for an hour ride with a na
 rrated tour displaying the historic district of Galena and learning about 
 the hills &amp\; valleys of this beautiful community. Free time will follo
 w before we board the motor coach for our return back to Newton with great
  memories of our "Galena Getaway"!\n\nTour includes:  motor coach transpo
 rtation with driver tip\, overnight accommodation at De Soto House Hotel\,
  2 meals (evening meal at Timmerman's Supper Club &amp\; brunch at Courtya
 rd Restaurant)\, morning break with coffee &amp\; scones\, narrated tour o
 n Galena Trolley\, all taxes &amp\; gratuities on the above-mentioned meal
 s &amp\; attractions.\n\nDepart:  6:00 a.m.\nReturn:  7:00 p.m.\n\nCost 
 Per Person:\n$261.00 Quad\n$273.00 Triple\n$299.00 Double\n$376.00 Single\
 n\nDeposit in the amount of $100.00 will be due at the time of signup.  F
 inal balance will be due by June 9\, 2017. \n
ATTACH;FMTTYPE=image/jpeg:https://jhtraveltours.com/wp-content/uploads/201
 7/02/Galena-Getaway.png
CATEGORIES:Short Trip
END:VEVENT
BEGIN:VTIMEZONE
TZID:America/Chicago
X-LIC-LOCATION:America/Chicago
BEGIN:DAYLIGHT
DTSTART:20170312T030000
TZOFFSETFROM:-0600
TZOFFSETTO:-0500
TZNAME:CDT
END:DAYLIGHT
END:VTIMEZONE
END:VCALENDAR