BEGIN:VCALENDAR
VERSION:2.0
PRODID:-//wp-events-plugin.com//7.2.3.1//EN
TZID:America/Chicago
X-WR-TIMEZONE:America/Chicago
BEGIN:VEVENT
UID:226@jhtraveltours.com
DTSTART;TZID=America/Chicago:20170523T053000
DTEND;TZID=America/Chicago:20170524T204500
DTSTAMP:20170302T055318Z
URL:https://jhtraveltours.com/events/gardens-greenhouse-gifts-2017/
SUMMARY:Gardens\, Greenhouse\, & Gifts 2017 - #_LOCATIONNAME - 23 May 17 05
 :30
DESCRIPTION:Calling all gardeners to the seventh annual JH Travel "Gardens\
 , Greenhouse &amp\; Gifts" tour!  Minnesota &amp\; Wisconsin - here we co
 me!\n\nAfter departing from Newton we will have a quick stop at the Albert
  Lea travel center for a morning break and then traveling onto Donahue's G
 reenhouse in Faribault\, MN.  The family has been specializing in clemati
 s for several decades and ship over 700\,000 clematis throughout the Unite
 d States &amp\; Canada annually. We will have a short program on the histo
 ry of Donahue's and growing tips on clematis.  They have a large retail c
 enter with annuals\, shrubs\, perennials\, tropical's and much more! We tr
 avel onto Terra Garden Center in Lakeville\, MN also a family owned busine
 ss that is known for their quality hanging baskets\, tropical's and are op
 en year around. Lunch will be arriving from Subway before we depart.  Our
  third stop is Malmborg's Garden Center in Rogers\, MN where we will have 
 a short tour of their greenhouse facility and time for browsing.  (We vis
 ited Malmborg's at another location on a prior trip) They are known for Ge
 orge's Geraniums and customer service. Our last stop for the day will be a
 t 101 Market in Otsego\, MN which is another family owned garden center th
 at is known for their unique combination of hanging baskets. We then trave
 l onto Ham Lake\, MN for an evening meal at T-Box Bar &amp\; Grill with ma
 in entree choices of: 1). Double Bone Pork Chop 2). Salmon 3). Chef's Cut 
 Sirloin and with each meal served Au Gratin potatoes and asparagus with de
 ssert and non-alcoholic drink. When making your reservations please indica
 te your meal choice. Rest easily at AmericInn which is our overnight accom
 modation in Ham Lake (each person will be responsible for their own luggag
 e handling).\n\nRise &amp\; Shine! After our breakfast at the hotel we tra
 vel a short distance to Mickman Brothers for some browsing where they spec
 ialize in landscaping\, landscape care\, irrigation and offer a variety of
  plants in the garden center. Lunch is at Hudson\, WI in a remodeled post 
 office which is called The Post Mark Grille. Everyone will have a choice o
 f four main entrees and ice cream for dessert will be served across the st
 reet at Knoke's Chocolate. After lunch and a sweet treat we move onto Cons
 tant Color Perennials in New Richmond\, WI for some plant browsing.  Our 
 final stop on our trip will be at Rusty Rabbitiques located by Farmington\
 , WI where a "bit" of everything can be found from jewelry\, plants\, gard
 en art\, signs\, trellis\, plant hangers\, etc.\n\nWe will then be making 
 our journey back to Newton with great memories of our "Gardens\, Greenhous
 e &amp\; Gifts" trip for 2017!  On the way back home a decision will be m
 ade as to where our trip goes in 2018 - so be thinking.\n\nTour includes:
   motor coach transportation\, driver tip\, overnight accommodation\, 4 m
 eals\, (1 deluxe continental breakfasts\,2 lunches and 1 evening meal)\, a
  truck &amp\; trailer to keep your purchases (not responsible for the loss
  of plants or breakage of items)\, all taxes &amp\; gratuities on the abov
 e mentioned attractions on the trip.\n\nDepart: 5:30 a.m.\nReturn:  8:45 
 p.m.\n\nCost Per Person:\n\n$369.00           Quad\n$379.00  
          Triple\n$399.00           Double\n$479.00   
         Single\n\nA $100.00 per person deposit is required at the t
 ime of signup.  The final balance is due promptly on April 15\, 2017.  *
 *This trip is limited to 24 gardeners! Don't wait too long to sign up! **T
 rip Subject to Change
ATTACH;FMTTYPE=image/jpeg:https://jhtraveltours.com/wp-content/uploads/201
 7/02/Galena-Getaway-1.png
CATEGORIES:Short Trip
END:VEVENT
BEGIN:VTIMEZONE
TZID:America/Chicago
X-LIC-LOCATION:America/Chicago
BEGIN:DAYLIGHT
DTSTART:20170312T030000
TZOFFSETFROM:-0600
TZOFFSETTO:-0500
TZNAME:CDT
END:DAYLIGHT
END:VTIMEZONE
END:VCALENDAR