BEGIN:VCALENDAR
VERSION:2.0
PRODID:-//wp-events-plugin.com//7.2.3.1//EN
TZID:America/Chicago
X-WR-TIMEZONE:America/Chicago
BEGIN:VEVENT
UID:185@jhtraveltours.com
DTSTART;TZID=America/Chicago:20160523T053000
DTEND;TZID=America/Chicago:20160525T200000
DTSTAMP:20160306T220501Z
URL:https://jhtraveltours.com/events/gardens-greenhouses-gifts-2016/
SUMMARY:Gardens\, Greenhouses & Gifts 2016 - #_LOCATIONNAME - 23 May 16 05:
 30
DESCRIPTION:Calling all gardeners to the sixth annual JH Travel "Gardens\, 
 Greenhouses &amp\; Gifts" tour!\nDay One:\n[caption id="attachment_714" al
 ign="alignleft" width="225"] Courtesy K &amp\; K Gardens[/caption]\n\nAn e
 arly morning departure traveling northeast finds our first stop (after a m
 orning break) at K &amp\; K Gardens which is in its 20th year in Hawkeye\
 , Iowa which has display gardens as well as retail space. Our program here
  will be "Basic Pond Pointers".  A quick stop at Monona\, Iowa to pick up
  Subway and then cruising onto Richland Center\, WI to Oak Shade Greenhous
 e which offers 3 greenhouses. Our next stop is at Woodland Valley Farms in
  La Valle\, WI before departing for Lyndon Station\, WI for Flowerbuds Gre
 enhouse where Jerry will present a short program on "Unusual Annuals".  A
 ll aboard for a short ride to the Wisconsin Dells for a relaxing evening m
 eal at Sarento's Italian Restaurant where everyone will have a choice of t
 hree main entrees with house salad &amp\; bread sticks complete with a var
 iety of desserts! Our evening accommodations await us at  AmericInn Lodge
  &amp\; Suites.\n\n&nbsp\;\nDay Two:\n[caption id="attachment_715" align="
 alignright" width="300"] Lost Lake Acres Greenhouse[/caption]\n\nRise &amp
 \; shine! We have a full day of greenhouses\, garden art and gift shops to
  check out! After our breakfast at the hotel we visit Links Greenhouse Far
 m at Portage\, WI for a short program on "Container Plantings".  Travelin
 g onto Fall River\, WI we visit Lost Lake Acres Greenhouse where a program
  will be shared entitled "Unique Hanging Baskets". Traveling down the road
  to DeForest\, WI the folks at Norske Nook welcome our group for lunch whe
 re pie is always a must! After lunch we visit Country Bloomers Greenhouse 
 for a program on "Bloomer's History" for a very unique story about the bus
 iness.\n\n[caption id="attachment_716" align="alignleft" width="150"] Sch
 önheit Gardens[/caption]\n\nOur friends at Schonheit Gardens remember us 
 coming in the past and welcome us back to their greenhouse!  Last year wh
 en we talked about the area that we would visit in 2016 everyone asked to 
 visit this friendly\, clean greenhouse! We then travel to Cottage Grove\, 
 WI to America's Best Flowers which is the largest grower in the Madison ar
 ea.  Everyone will be learning more about herbs as we make our hands on p
 roject which will be a herb garden. They offer between 60 - 70 types of he
 rbs in the greenhouse.  A pizza party is next on the agenda at Papa Jimmy
 's Pizzeria in Cottage Grove before a restful night sleep at AmericInn Mad
 ison/South.\n\n\nDay Three:\n\n\nEnjoy breakfast at the hotel before we de
 part for a return visit to America's Best Flowers as so much more awaits 
 our group that we didn't get to explore the night before! We then travel t
 o a family owned business at Oregon\, WI to Kopke's Greenhouse before trav
 eling onto New Glarus\, WI which is known to be "America's Little Switzerl
 and" for lunch at the New Glarus Hotel.  This building dates back to 1853
  and the dining room was once a opera house before being converted to a Sw
 iss Yodel Club.  Maybe a sweet treat to eat for the ride home at the New 
 Glarus Bakery? One more greenhouse stop which will be at Brenda's Blumenla
 den before making our journey back to Newton with great memories of our "G
 ardens\, Greenhouse &amp\; Gifts" trip for 2016!  On  the way back home 
 a decision will be made as to where our trip goes in 2017 - so be thinking
 .\n\nTour includes:  motor coach transportation\, driver tip\, overnight 
 accommodations for two nights along with roundtrip baggage handling at one
  hotel\, 7 meals\, (2 deluxe continental breakfasts\, 3 lunches and 2 even
 ing meals)\, a truck &amp\; trailer to keep your purchases cool (not respo
 nsible for the loss of plants or breakage of items)\, all taxes &amp\; gra
 tuities on the above mentioned attractions on the trip.\n\nDepart: 5:30 a.
 m.\nReturn:  8:00 p.m.\n\nCost Per Person:\n\n$513.00 Quad\n$529.00 Tripl
 e\n$559.00 Double\n$657.00 Single\n\nA $200.00 per person deposit is requi
 red at the time of signup.  The final balance is due promptly on April 15
 \, 2016.  **This trip is limited to 25 gardeners! Don't wait too long to 
 sign up! **Trip Subject to Change
ATTACH;FMTTYPE=image/jpeg:https://jhtraveltours.com/wp-content/uploads/201
 6/03/GardenHeader.jpg
CATEGORIES:Short Trip
END:VEVENT
BEGIN:VTIMEZONE
TZID:America/Chicago
X-LIC-LOCATION:America/Chicago
BEGIN:DAYLIGHT
DTSTART:20160313T030000
TZOFFSETFROM:-0600
TZOFFSETTO:-0500
TZNAME:CDT
END:DAYLIGHT
END:VTIMEZONE
END:VCALENDAR