BEGIN:VCALENDAR
VERSION:2.0
PRODID:-//wp-events-plugin.com//7.2.3.1//EN
TZID:America/Chicago
X-WR-TIMEZONE:America/Chicago
BEGIN:VEVENT
UID:41@jhtraveltours.com
DTSTART;TZID=America/Chicago:20120606T054500
DTEND;TZID=America/Chicago:20120608T190000
DTSTAMP:20120425T035802Z
URL:https://jhtraveltours.com/events/gardens-greenhouses-gifts/
SUMMARY:Gardens\, Greenhouses & Gifts - #_LOCATIONNAME - 6 Jun 12 05:45
DESCRIPTION:Gardens\, Greenhouses &amp\; Gifts\nJune 6 – 8\, 2012 (Wednes
 day – Friday) \nCalling all gardeners to the second annual JH Travel gar
 den tour!\n\nAn early morning departure traveling east finds our first sto
 p at Wallace’s Garden Center in Bettendorf\, Iowa for our morning break\
 , program on fairy gardening and a tour of their growing greenhouse and fr
 ee time.  This is a family business that welcomes our group with a spacio
 us classroom and has everything from lamps to handbags in the gift shop! T
 he next stop on the itinerary is very unique and is rated the highest qual
 ity Japanese garden in North America which is Anderson Japanese Gardens in
  Rockford\, IL. 
CATEGORIES:Short Trip
END:VEVENT
BEGIN:VTIMEZONE
TZID:America/Chicago
X-LIC-LOCATION:America/Chicago
BEGIN:DAYLIGHT
DTSTART:20120311T030000
TZOFFSETFROM:-0600
TZOFFSETTO:-0500
TZNAME:CDT
END:DAYLIGHT
END:VTIMEZONE
END:VCALENDAR