BEGIN:VCALENDAR
VERSION:2.0
PRODID:-//wp-events-plugin.com//7.2.3.1//EN
TZID:America/Chicago
X-WR-TIMEZONE:America/Chicago
BEGIN:VEVENT
UID:171@jhtraveltours.com
DTSTART;TZID=America/Chicago:20160421T053000
DTEND;TZID=America/Chicago:20160424T193000
DTSTAMP:20160307T040637Z
URL:https://jhtraveltours.com/events/get-ready-to-rock-roll/
SUMMARY:Get Ready to Rock & Roll - #_LOCATIONNAME - 21 Apr 16 05:30
DESCRIPTION:Enjoy the music of the 1950's &amp\; 1960's? Remember the songs
  that were playing when you bought your first car or songs that were popul
 ar when scooping the loop or were playing when you shared your first kiss?
  Well\, join JH Travel for a trip to remember with all your favorite music
 !\n\n\nAfter our arrival in Branson our evening meal awaits at Mel's Hard 
 Luck Diner where the waiters/waitresses sing while delivering your meal ch
 oice. Our show for the evening is Jersey Nights: Music of Frankie Valli  
 where we will witness the story of the Four Seasons in this elaborate prod
 uction style show featuring authentic costumes\, first-class musical arran
 gements\, custom sets\, and those incomparable hit songs! You’ll enjoy a
 ll their best\, including My Eyes Adored You\, Can’t Take My Eyes Off Y
 ou\, Big Girls Don’t Cry\, Oh What a Night\, Sherry\, Rag Doll and so m
 any more!\n\nOur second day begins with a tour of the College of the Ozark
 s\, better known as "the college that works". A visit to the Ralph Foster 
 Museum before heading back to Branson for lunch. Our afternoon show is #1 
 Hits of the 60's &amp\; 50's show which revisits the days of the British I
 nvasion\, Motown\, California Surfin' &amp\; the Age of Aquarius with over
  100 songs!\n\nEvening meal follows at Jackie B Goode's Uptown Cafe then o
 nto Bee Gees &amp\; Beyond\, which the original group formed in 1958 and h
 as provided music for many years. An evening dessert stop at Cakes-n-Cream
  for ice cream or a funnel cake topped with ice cream &amp\; strawberries!
  (Ask Rick how yummy these are!) \n\n&nbsp\;\n\nOur third day begins with 
 an out of this world fudge stop at Country Barn and then onto Doo-wop &am
 p\; Chico Vega's Drifters (Chico\, an original Drifter).  Does "Under the
  Boardwalk" &amp\; "Save the Last Dance for Me" sound familiar? You will a
 lso enjoy songs by Etta James\, Aretha Franklin and others! Free time foll
 ows for lunch &amp\; shopping time.  An evening meal at Landry's Seafood 
 House will offer a variety of main entrees before Million Dollar Quartet. 
 Tony Award winning Broadway musical\, inspired by the electrifying true st
 ory of the famed recording session where Sam Phillips\, the “Father of R
 ock ‘n’ Roll” brought together icons Elvis Presley\, Johnny Cash\, J
 erry Lee Lewis and Carl Perkins for one unforgettable night - the greatest
  rock jam session of all time. \n\nTraveling back to Newton on April 24th 
 will conclude our unforgettable tour of "Get Ready to Rock &amp\; Roll" wi
 th awesome memories of those awesome songs of the 50's &amp\; 60's!\n\nTou
 r includes:  motor coach transportation\, overnight accommodations at Oza
 rk Regal Hotel\, 5 shows &amp\; 1 attraction\, 6 meals (3 continental brea
 kfasts &amp\; 3 dinners)\, all taxes &amp\; gratuities included on the abo
 ve mentioned items.\n\nDepart: 5:30 a.m. - April 21\, 2016\n\nReturn: 7:30
  p.m. - April 24\, 2016\n\nCost Per Person: $544.00 Quad $559.00 Triple $5
 89.00 Double $674.00 Single\n\nA deposit of $100.00 is due at the time of 
 reservation. The final balance is due by March 10\, 2016.
ATTACH;FMTTYPE=image/jpeg:https://jhtraveltours.com/wp-content/uploads/201
 5/11/Rock-JH-Feature.jpg
CATEGORIES:Extended Trip
END:VEVENT
BEGIN:VTIMEZONE
TZID:America/Chicago
X-LIC-LOCATION:America/Chicago
BEGIN:DAYLIGHT
DTSTART:20160313T030000
TZOFFSETFROM:-0600
TZOFFSETTO:-0500
TZNAME:CDT
END:DAYLIGHT
END:VTIMEZONE
END:VCALENDAR