BEGIN:VCALENDAR
VERSION:2.0
PRODID:-//wp-events-plugin.com//7.2.3.1//EN
TZID:America/Chicago
X-WR-TIMEZONE:America/Chicago
BEGIN:VEVENT
UID:195@jhtraveltours.com
DTSTART;TZID=America/Chicago;VALUE=DATE:20170509
DTEND;TZID=America/Chicago;VALUE=DATE:20170521
DTSTAMP:20170201T040503Z
URL:https://jhtraveltours.com/events/grand-tour-italy/
SUMMARY:Grand Tour of Italy - #_LOCATIONNAME - 9 May 17 00:00
DESCRIPTION:Bookings are now Closed!\nDay 1 - Tuesday\, May 9th\nMotor-coac
 h transportation to Minneapolis Airport\, and overnight flight to Italy. F
 lying into Paris and then a connecting flight to Florence.\nDay 2 - Wedne
 sday\, May 10th\nMontecatini - Arrive and transfer to Montecatini for chec
 k-in. The day is at leisure. “Welcome Dinner” and orientation meeting.
  Hotel Columbia or similar\, Montecatini (D)\nDay 3 - Thursday\, May 11th
 \nFlorence - Hotel breakfast. Full-day guided tour of Florence including t
 he historic city center and Academia Museum\, home of Michelangelo’s 
 “David.” Hotel dinner. Montecatini (B\,D)\nDay 4 - Friday\, May 12th\n
 Venice - Hotel breakfast. Full-day tour to Venice including a walking tour
  of Piazza San Marco\, the Doge’s Palace\, the Bridge of Sighs and the 
 Piombi Prisons. The afternoon is at leisure. Late dinner at our hotel. Mon
 tecatini (B\,D)\nDay 5 - Saturday\, May 13th\nSiena &amp\; San Gimignano -
  Hotel breakfast. Depart for Siena through the hills of Chianti. In Siena\
 , view Piazza del Campo and their Medieval towers and walls. Next visit S
 an Gimignano\, a charming Medieval hilltop town noted for its towers and 
 views. Hotel dinner. Montecatini (B\,D)\nDay 6 - Sunday\, May 14th\nAssisi
  &amp\; Rome - for Rome\, with a stop in Assisi to view St. Francis’ Cat
 hedral. Arriving in Rome\, check in and hotel dinner. Hotel Tiberio or si
 milar\, Rome (B\,D)\nDay 7 - Monday\, May 15th\nRome - Morning tour featur
 ing the most famous monuments and sites of Ancient Rome\, and an afternoon
  tour of Modern Rome. We will see the Colosseum\, Pantheon\, Spanish Step
 s\, Trevi Fountain\, and more! Dinner at our hotel. Rome (B\,D)\nDay 8 - 
 Tuesday\, May 16th\nVatican - After breakfast\, visit St. Peter’s Basili
 ca and the Sistine Chapel. See Michelangelo’s ‘Creation’ and ‘Last
  Judgment’. Afternoon drop-off at the Spanish Steps for time at leisure
 . Hotel dinner. Rome (B\,D)\nDay 9 - Wednesday\, May 17th\nPompeii\, Naple
 s &amp\; Sorrento - Following breakfast\, depart for Sorrento. Stop for a 
 tour of Pompeii’s well-preserved ruins from Roman times. Next we tour o
 f the port city of Naples. Arriving in Sorrento\, check in for dinner and 
 overnight. Hotel Michelangelo or similar\, Sorrento (B\,D)\nDay 10 - Thur
 sday\, May 18th\nAmalfi Coast - Hotel breakfast. Tour one of the world’s
  most scenic roads - The Amalfi Drive! Our first stop will be above the f
 amous resort of Positano. Then continue to the ancient marine republic of 
 Amalfi with time to visit the Cathedral or explore. Afternoon visit to Ra
 vello. Return to Sorrento for dinner. Sorrento (B\,D)\nDay 11 - Friday\, M
 ay 19th\nCapri - Ferry to the beautiful Isle of Capri! Capri is very chic 
 with shops\, hotels\, and restaurants along winding streets. The main squ
 are has a pretty white church and open-air cafes. Return to Sorrento for d
 inner. Sorrento (B\,D)\nDay 12 - Saturday\, May 20th\nReturn to the United
  States. After breakfast and hotel check-out\, transfer to Naples Airport 
 for your return flight to the US. (B) Flight Naples-Paris-Minneapolis.\nH
 ighlights\n\n 	Academia Museum\n 	Piazza San Marco\n 	Doge’s Palace\n 	P
 iazza del Campo\n 	St. Peter’s Basilica\n 	Spanish Steps\n 	Trevi Founta
 in\n 	Sistine Chapel\n 	St. Francis Cathedral\n 	Colosseum &amp\; Pantheon
 \n\nView full brochure here:\n\n[gview file="https://jhtraveltours.com//wp
 -content/uploads/2016/08/Italy-2017.pdf"]\n\nYour Tour Price:\n\nDouble - 
 $5\,199.00 per person\nSingle - $5\,699.00 per person
ATTACH;FMTTYPE=image/jpeg:https://jhtraveltours.com/wp-content/uploads/201
 6/08/Booking-Now-Closed.png
CATEGORIES:Extended Trip
END:VEVENT
BEGIN:VTIMEZONE
TZID:America/Chicago
X-LIC-LOCATION:America/Chicago
BEGIN:DAYLIGHT
DTSTART:20170312T030000
TZOFFSETFROM:-0600
TZOFFSETTO:-0500
TZNAME:CDT
END:DAYLIGHT
END:VTIMEZONE
END:VCALENDAR