BEGIN:VCALENDAR
VERSION:2.0
PRODID:-//wp-events-plugin.com//7.2.3.1//EN
TZID:America/Chicago
X-WR-TIMEZONE:America/Chicago
BEGIN:VEVENT
UID:170@jhtraveltours.com
DTSTART;TZID=America/Chicago:20160922T121500
DTEND;TZID=America/Chicago:20160922T190000
DTSTAMP:20151005T021506Z
URL:https://jhtraveltours.com/events/grease/
SUMMARY:Grease - #_LOCATIONNAME - 22 Sep 16 12:15
DESCRIPTION:"Grease" \n\nSeptember 22\, 2016 (Thursday)\n\nThe Broadway sma
 sh that inspired one of the most popular movie musicals of all time! Greas
 e is the word as travel back to the 50's with Danny and Sandy to Rydel Hig
 h! Danny and Sandy fall for each other during a carefree summer fling.  B
 ut\, when the school year begins\, Danny is torn between his feelings for 
 good-girl Sandy and his image with the T-Birds and the Pink Ladies.  Grea
 se is brimming with unforgettable songs\; Summer Nights\, Greased Lightnin
 ' and We Go Together! \n\nThe Old Creamery will host JH Travel for this mu
 sical production along with our regular premium seating! Limited seating i
 s available!\n\nFollowing the show we are going to dance right in to the C
 offee Cup Cafe for a traditional 50's style meal that includes: root beer 
 floats\, hamburger &amp\; fries along with a piece of pie! Don't miss this
  fun afternoon!\n\nDepart:  12:15 p.m.\nReturn:  7:00 p.m.\n\nCost Per P
 erson:  $103.00\n\nReservation and payment due by August 29\, 2016 
ATTACH;FMTTYPE=image/jpeg:https://jhtraveltours.com/wp-content/uploads/201
 5/10/Grease_logo.jpg
CATEGORIES:Day Trip
END:VEVENT
BEGIN:VTIMEZONE
TZID:America/Chicago
X-LIC-LOCATION:America/Chicago
BEGIN:DAYLIGHT
DTSTART:20160313T030000
TZOFFSETFROM:-0600
TZOFFSETTO:-0500
TZNAME:CDT
END:DAYLIGHT
END:VTIMEZONE
END:VCALENDAR