BEGIN:VCALENDAR
VERSION:2.0
PRODID:-//wp-events-plugin.com//7.2.3.1//EN
TZID:America/Chicago
X-WR-TIMEZONE:America/Chicago
BEGIN:VEVENT
UID:192@jhtraveltours.com
DTSTART;TZID=America/Chicago:20170518T091500
DTEND;TZID=America/Chicago:20170518T184500
DTSTAMP:20160707T022506Z
URL:https://jhtraveltours.com/events/great-thou-art/
SUMMARY:How Great Thou Art - #_LOCATIONNAME - 18 May 17 09:15
DESCRIPTION:Join JH Travel for a matinee show at Circa 21 Dinner Playhouse 
 that will provide gospel music and great memories!\n\nFrom the earliest da
 ys of his boyhood until his untimely death\, gospel music always held a sp
 ecial place in the heart of Elvis Presley.  Before he became the most fam
 ous entertainer the world has ever known\, as a young man Elvis wanted not
 hing more than to sing bass in a gospel group. Featuring a large band with
  a gospel quartet performing such hits as "Peace In The Valley"\, "Amazing
  Grace" and of course the title track "How Great Thou Art"\, you're sure t
 o find inspiration and lots of great memories in this wonderful music.\n\n
 \n\nHope to have you join us for this spiritual matinee show at Circa 21!\
 n\nDepart:  9:15 a.m.\n\nReturn:  6:45 p.m.\n\nCost Per Person:  $119.0
 0\n\nReservation and payment due by April 13\, 2017
ATTACH;FMTTYPE=image/jpeg:https://jhtraveltours.com/wp-content/uploads/201
 6/07/How-Great-Thou-Art-Header.png
CATEGORIES:Day Trip
END:VEVENT
BEGIN:VTIMEZONE
TZID:America/Chicago
X-LIC-LOCATION:America/Chicago
BEGIN:DAYLIGHT
DTSTART:20170312T030000
TZOFFSETFROM:-0600
TZOFFSETTO:-0500
TZNAME:CDT
END:DAYLIGHT
END:VTIMEZONE
END:VCALENDAR