BEGIN:VCALENDAR
VERSION:2.0
PRODID:-//wp-events-plugin.com//7.2.3.1//EN
TZID:America/Chicago
X-WR-TIMEZONE:America/Chicago
BEGIN:VEVENT
UID:274@jhtraveltours.com
DTSTART;TZID=America/Chicago:20190515T091500
DTEND;TZID=America/Chicago:20190515T184500
DTSTAMP:20180803T224345Z
URL:https://jhtraveltours.com/events/grumpy-old-men-the-musical/
SUMMARY:Grumpy Old Men - The Musical - #_LOCATIONNAME - 15 May 19 09:15
DESCRIPTION:May 15\, 2019 (Wednesday)\n\nFasten Your Seatbelts. It's Going 
 To Be A Grumpy Ride!\n\n\n\nJoin JH Travel for this comedy show at Circa 2
 1 Dinner Playhouse! A matinee show so we'll be home early!\n\n Don’t mi
 ss this laugh-out-loud story of family\, friendship\, love and romance in 
 a fresh new musical that’s guaranteed to delight! Based on the 1993 movi
 e starring Jack Lemon\, Walter Matheau and Ann-Margaret\, Grumpy Old Men i
 s the story of two aging neighbors\, Max and John\, who have been feuding 
 for more than fifty years. When the beautiful and charming Ariel moves in
  across the street\, the rivalry is raised to new heights! Can her love an
 d compassion reunite their friendship?\n\nDepart:  9:15 a.m.\nReturn:  6
 :45 p.m.\n\nCost Per Person: $139.00\n\nReservation and payment due by Apr
 il 25\, 2019 
ATTACH;FMTTYPE=image/jpeg:https://jhtraveltours.com/wp-content/uploads/201
 8/08/Trip-Header-5.png
CATEGORIES:Day Trip
END:VEVENT
BEGIN:VTIMEZONE
TZID:America/Chicago
X-LIC-LOCATION:America/Chicago
BEGIN:DAYLIGHT
DTSTART:20190310T030000
TZOFFSETFROM:-0600
TZOFFSETTO:-0500
TZNAME:CDT
END:DAYLIGHT
END:VTIMEZONE
END:VCALENDAR