BEGIN:VCALENDAR
VERSION:2.0
PRODID:-//wp-events-plugin.com//7.2.3.1//EN
TZID:America/Chicago
X-WR-TIMEZONE:America/Chicago
BEGIN:VEVENT
UID:384@jhtraveltours.com
DTSTART;TZID=America/Chicago:20230419T091500
DTEND;TZID=America/Chicago:20230419T183000
DTSTAMP:20230203T062729Z
URL:https://jhtraveltours.com/events/grumpy-old-men/
SUMMARY:Grumpy Old Men - #_LOCATIONNAME - 19 Apr 23 09:15
DESCRIPTION:Fasten your seat belt\, it’s going to be a grumpy ride! \n\nC
 ome along with JH Travel for this matinee comedy production at Circa 21 Di
 nner Playhouse! We will be greeted by Hollie\, group sales representative 
 and then shown to our reserved tables for a lovely lunch\, a pre show by T
 he Bootlegger's (wait staff that bring our yummy meals) and then it is tim
 e for the main show!\n\nBased on the classic 1993 Warner Brothers film sta
 rring Jack Lemmon\, Walter Matthau and Ann-Margret\, this hilarious new sh
 ow was penned by Dan Remmes\, with music by Neil Berg and lyrics by Nick M
 eglin.\n\nTwo aging neighbors\, Max and John\, have been feuding for more 
 than fifty years until the beautiful and charming Ariel moves in across th
 e street — raising the rivalry to new heights! Can her love and compassi
 on reunite their friendship?\n\nDon’t miss this laugh-out-loud story of 
 family\, friendship\, love and romance in a fresh new musical that’s gua
 ranteed to delight!\n\n&nbsp\;\n\nDepart:  9:15 a.m.\n\nReturn: 6:30 p.m.
 \n\n&nbsp\;\n\nCost Per Person:  $169.00\n\n&nbsp\;\n\n($100.00 NON REFUN
 DABLE DEPOSIT IS DUE AT THE TIME OF SIGNUP AND THE REMAINDER IS DUE BY MAR
 CH 6\, 2023 ). \n\n&nbsp\;\n\nReservation and payment due by March 6\, 202
 3\n\n&nbsp\;\n\n&nbsp\;\nSign up for our newsletter to get exclusive infor
 mation!\n[mc4wp_form id=648]
ATTACH;FMTTYPE=image/jpeg:https://jhtraveltours.com/wp-content/uploads/202
 2/09/Grumpy-Old-Men.webp
CATEGORIES:Day Trip
END:VEVENT
BEGIN:VTIMEZONE
TZID:America/Chicago
X-LIC-LOCATION:America/Chicago
BEGIN:DAYLIGHT
DTSTART:20230312T030000
TZOFFSETFROM:-0600
TZOFFSETTO:-0500
TZNAME:CDT
END:DAYLIGHT
END:VTIMEZONE
END:VCALENDAR