BEGIN:VCALENDAR
VERSION:2.0
PRODID:-//wp-events-plugin.com//7.2.3.1//EN
TZID:America/Chicago
X-WR-TIMEZONE:America/Chicago
BEGIN:VEVENT
UID:200@jhtraveltours.com
DTSTART;TZID=America/Chicago:20170824T121500
DTEND;TZID=America/Chicago:20170824T190000
DTSTAMP:20160822T005107Z
URL:https://jhtraveltours.com/events/guys-ice-ice-fishing-musical/
SUMMARY:Guys on Ice: The Ice Fishing Musical - #_LOCATIONNAME - 24 Aug 17 1
 2:15
DESCRIPTION:"Guys on Ice:  The Ice Fishing Musical"\n\nAugust 24\, 2017 (T
 hursday) \n\nEnjoy COMEDY &amp\; MUSIC? Check your calendar and be sure to
  make your reservation for this Old Creamery Theatre matinee show with our
  premium front &amp\; center seating!\n\nA charming slice of Midwest life 
 with Lloyd and Marvin\, two buddies who spend the day in their ice fishing
  shanty\, sharing stories and laughs! As a musical\, you can expect hilari
 ous songs like "The Wishing Hole"\, "Ode to a Snowmobile Suit"\, "Fish is 
 the Miracle Food" and "The One That Got Away".  Guys on Ice has been perf
 ormed all across the country to sell-out crowds!\n\nThe evening meal will 
 be served at the Coffee Cup Cafe in Sully. Be sure to bring along your app
 etite for this meal and of course . . . . dessert!  Hope to have you join
  us!\n\nDepart:  12:15 p.m.\nReturn:  7:00 p.m.\n\nCost Per Person:  $1
 03.00\n\nReservation and payment due by August 4\, 2017
ATTACH;FMTTYPE=image/jpeg:https://jhtraveltours.com/wp-content/uploads/201
 6/08/Guys-On-Ice.png
CATEGORIES:Day Trip
END:VEVENT
BEGIN:VTIMEZONE
TZID:America/Chicago
X-LIC-LOCATION:America/Chicago
BEGIN:DAYLIGHT
DTSTART:20170312T030000
TZOFFSETFROM:-0600
TZOFFSETTO:-0500
TZNAME:CDT
END:DAYLIGHT
END:VTIMEZONE
END:VCALENDAR