BEGIN:VCALENDAR
VERSION:2.0
PRODID:-//wp-events-plugin.com//7.2.3.1//EN
TZID:America/Chicago
X-WR-TIMEZONE:America/Chicago
BEGIN:VEVENT
UID:53@jhtraveltours.com
DTSTART;TZID=America/Chicago:20121202T111500
DTEND;TZID=America/Chicago:20121202T174500
DTSTAMP:20120524T040240Z
URL:https://jhtraveltours.com/events/holiday-grande-2012/
SUMMARY:Holiday Grande 2012 - #_LOCATIONNAME - 2 Dec 12 11:15
DESCRIPTION:Come along and join JH Travel to celebrate the holiday season a
 t Hoyt Sherman Place Theater in style at “Holiday Grande 2012”\, an el
 egant\, all new stage production featuring International Steinway Artist a
 nd Iowa’s own pianist\, Jim McDonough. Jim will be joined by his 14 pie
 ce professional orchestra and a cast of sensational singers and dancers pe
 rforming your favorite Christmas music and other all-time favorites. This
  two hour production is a grand combination of beautiful music\, spectacul
 ar sets and costumes\, and the spirit of the season. Enjoy the production 
 from our center section seats located close to the stage – so we won’t
  miss a thing! Proceeds benefit Camp Courageous of Iowa\, a year round rec
 reational and respite care facility for individuals with disabilities. Ji
 m has entertained hundreds of thousands in venues from cruise ships to con
 cert halls. He has a variety of recordings in over 800 gift shops and mus
 ic stores across the country.\n\nPrior to the show our lunch will be eaten
  at the Old Country Buffet where a variety of foods welcome our group.\n\n
 This is our fourth time in seeing this spectacular pianist and every year 
 our travelers are just “WOWED” by this young performer! Leave Hoyt She
 rman Place “feeling the magic of the season” after this performance! 
 Sit back and “no worries” about the weather as we leave the driving up
  to the Hawkeye Stages driver!\n\nReservation and payment due by October 2
 9\, 2012 
CATEGORIES:Day Trip
END:VEVENT
BEGIN:VTIMEZONE
TZID:America/Chicago
X-LIC-LOCATION:America/Chicago
BEGIN:STANDARD
DTSTART:20121104T010000
TZOFFSETFROM:-0500
TZOFFSETTO:-0600
TZNAME:CST
END:STANDARD
END:VTIMEZONE
END:VCALENDAR