BEGIN:VCALENDAR
VERSION:2.0
PRODID:-//wp-events-plugin.com//7.2.3.1//EN
TZID:America/Chicago
X-WR-TIMEZONE:America/Chicago
BEGIN:VEVENT
UID:205@jhtraveltours.com
DTSTART;TZID=America/Chicago:20161127T104500
DTEND;TZID=America/Chicago:20161127T174500
DTSTAMP:20160824T022335Z
URL:https://jhtraveltours.com/events/holiday-grande-2016/
SUMMARY:Holiday Grande 2016 - #_LOCATIONNAME - 27 Nov 16 10:45
DESCRIPTION:[caption id="attachment_440" align="alignright" width="300"] Ho
 yt Sherman Place Theater[/caption]\n\nCome along and join JH Travel to cel
 ebrate the holiday season at Hoyt Sherman Place Theater in style at this m
 atinee show! An elegant\, all new stage production featuring International
  Steinway Artist and Iowa’s own pianist\, Jim McDonough. Jim will be joi
 ned by his 14 piece professional orchestra and a cast of sensational singe
 rs and dancers performing your favorite Christmas music and other all-time
  favorites. This two hour production is a grand combination of beautiful m
 usic\, spectacular sets and costumes\, and the spirit of the season. Enjoy
  the production from our center section seats located close to the stage 
 – so we won’t miss a thing! Jim has entertained hundreds of thousands 
 in venues from cruise ships to concert halls. He has a variety of recordin
 gs in over 800 gift shops and music stores across the country.\n\nA catere
 d lunch at the Des Moines Botanical Center and free time to enjoy the beau
 tiful conservatory all decorated for Christmas before boarding the coach t
 o arrive at Hoyt Sherman Place for this spectacular show!\n\nThis is our s
 eventh time in seeing this spectacular pianist and each time our travelers
  are just “WOWED” by this young performer! Leave Hoyt Sherman Place 
 “feeling the magic of the season” after this performance! Sit back and
  “no worries” about the weather as we leave the drive to the Hawkeye S
 tages driver!\nDON'T WAIT TOO LONG TO MAKE YOUR RESERVATIONS AS WE ARE HAL
 F FULL ALREADY!!\nDepart: 10:45 a.m.\nReturn: 5:45 p.m.\n\nCost Per Person
 : $136.00\n\nReservation and payment due by October 20\, 2016
ATTACH;FMTTYPE=image/jpeg:https://jhtraveltours.com/wp-content/uploads/201
 6/08/Holiday-Grande-2016.png
CATEGORIES:Day Trip
END:VEVENT
BEGIN:VTIMEZONE
TZID:America/Chicago
X-LIC-LOCATION:America/Chicago
BEGIN:STANDARD
DTSTART:20161106T010000
TZOFFSETFROM:-0500
TZOFFSETTO:-0600
TZNAME:CST
END:STANDARD
END:VTIMEZONE
END:VCALENDAR