BEGIN:VCALENDAR
VERSION:2.0
PRODID:-//wp-events-plugin.com//7.2.3.1//EN
TZID:America/Chicago
X-WR-TIMEZONE:America/Chicago
BEGIN:VEVENT
UID:164@jhtraveltours.com
DTSTART;TZID=America/Chicago:20151106T053000
DTEND;TZID=America/Chicago:20151106T211500
DTSTAMP:20151005T025640Z
URL:https://jhtraveltours.com/events/holiday-shopping-trip-2015/
SUMMARY:Holiday Shopping Trip 2015 - #_LOCATIONNAME - 6 Nov 15 05:30
DESCRIPTION:Join JH Travel for this fun\, holiday trip! Before you decorate
  your home come along with us to check out the latest Christmas decorating
  ideas! Like to change your color theme\, decorate your tree with a new lo
 ok or looking for something totally new - join us for this trip!\n\nWe wil
 l be traveling to the Minneapolis (I know that means an early morning) and
  our first stop will at Bachman's where we will experience a visual and vi
 sceral awakening at this season's complete transformation of the historic 
 Bachman's home! Designers have painted\, furnished and decorated the entir
 e house with their signature mix of new items\, repurposed pieces and a to
 uch of vintage in order to tell a story of seasonal and spiritual renewal.
  The texture\, pattern\, style and shine is proudly displayed on your self
  guided tour (tour tickets are limited). Many of the items displayed will 
 be on sale at the Bachman's retail store which will also be beautifully de
 corated for the holiday. Time for lunch which will be catered by Patrick's
  Bakery and our seating is in the beautifully decorated atrium area where 
 you feel as your are sitting outside in the tropics! Time to shop will fol
 low lunch.\n\nWow! You will love our next stop as Gerten's Greenhouse tran
 sforms themselves from a nursery into a Christmas delight! We will be welc
 omed by the fresh smell of pine in holiday wreaths and garland\, giftware\
 , several collections of holiday figurines\, outside statues\, a wide rang
 e of ornaments for that special person\, choose your favorite tree as many
  permanent trees will be beautifully decorated for the season as well a wi
 de variety of styles of trees and a huge selection of fairy garden accesso
 ries for the holidays.\n\nWe will be making a fast food stop along the way
  back to Newton (on your own). Don't miss this trip as it will be a fun da
 y and bring along your friends to get into the holiday spirit!\n\nDepart: 
 5:30 a.m.\nReturn: 9:15 p.m.\n\nCost Per Person: $133.00\n\nReservation an
 d payment due by October 19\, 2015
ATTACH;FMTTYPE=image/jpeg:https://jhtraveltours.com/wp-content/uploads/201
 5/09/Holiday-Shopping-2015.gif
CATEGORIES:Day Trip
END:VEVENT
BEGIN:VTIMEZONE
TZID:America/Chicago
X-LIC-LOCATION:America/Chicago
BEGIN:STANDARD
DTSTART:20151101T010000
TZOFFSETFROM:-0500
TZOFFSETTO:-0600
TZNAME:CST
END:STANDARD
END:VTIMEZONE
END:VCALENDAR