BEGIN:VCALENDAR
VERSION:2.0
PRODID:-//wp-events-plugin.com//7.2.3.1//EN
TZID:America/Chicago
X-WR-TIMEZONE:America/Chicago
BEGIN:VEVENT
UID:245@jhtraveltours.com
DTSTART;TZID=America/Chicago:20171218T084500
DTEND;TZID=America/Chicago:20171218T164500
DTSTAMP:20171026T050054Z
URL:https://jhtraveltours.com/events/holiday-tea-terrace-hill/
SUMMARY:Holiday Tea at Terrace Hill - #_LOCATIONNAME - 18 Dec 17 08:45
DESCRIPTION:Enjoy the beautifully decorated home of Governor Kim Reynolds a
 nd First Gentleman Kevin Reynolds with JH Travel! The rooms will be elegan
 tly and majestically decorated for the holidays where we will be surrounde
 d with holiday magic while enjoying a lovely holiday tea &amp\; lunch. (We
  have only 38 reservations - do don't wait too long to reserve your spot!)
 \n\nOur fun holiday trip moves onto Twist located in Urbandale and is a de
 finitely a "go to place" for ladies looking for awesome clothing! Our disc
 overy of Twist will display statement jewelry\, scarves\, clothes and acce
 ssories. Looking for just the right piece of jewelry or a scarf for an out
 fit? Stacy\, the owner will give each person helpful hints in finding just
  the right accessory for a whole new look! How fun will that be??\n\nBefor
 e concluding our fun day it will be time for dessert at Palmer's Deli in U
 rbandale. Choose a piece of scrumptious cake to enjoy before our ride back
  to Newton!\n\nDepart:  8:45 a.m.\n\nReturn:  4:45 p.m.\n\nCost Per Pers
 on:  $109.00
ATTACH;FMTTYPE=image/jpeg:https://jhtraveltours.com/wp-content/uploads/201
 7/10/942807_966330370080451_1344300624475123846_n.jpg
CATEGORIES:Day Trip
END:VEVENT
BEGIN:VTIMEZONE
TZID:America/Chicago
X-LIC-LOCATION:America/Chicago
BEGIN:STANDARD
DTSTART:20171105T010000
TZOFFSETFROM:-0500
TZOFFSETTO:-0600
TZNAME:CST
END:STANDARD
END:VTIMEZONE
END:VCALENDAR