BEGIN:VCALENDAR
VERSION:2.0
PRODID:-//wp-events-plugin.com//7.2.3.1//EN
TZID:America/Chicago
X-WR-TIMEZONE:America/Chicago
BEGIN:VEVENT
UID:191@jhtraveltours.com
DTSTART;TZID=America/Chicago:20161116T091500
DTEND;TZID=America/Chicago:20161116T184500
DTSTAMP:20160707T023209Z
URL:https://jhtraveltours.com/events/holly-jolly-christmas/
SUMMARY:Holly Jolly Christmas - #_LOCATIONNAME - 16 Nov 16 09:15
DESCRIPTION:&nbsp\;\n\nIf you enjoy the traditional\, beautiful sweet sound
 s of Christmas music then join JH Travel for a musical revue at the Circa 
 21 Dinner Playhouse in Rock Island\, IL!\n\nThis delightful musical treat 
 is the perfect way to celebrate the spirit of the season. Join Santa\, Mrs
 . Claus and friends as they feature Broadway-style dancing\, stunning cost
 umes\, and traditional music favorites you know and love! Over 30 holiday 
 favorites such as "The Christmas Song"\, "Jingle Bell Rock"\, "Blue Christ
 mas"\, "Mele Kalikimaka"\, "Feliz Navidad"\, "Twas the Night Before Christ
 mas"\, "The Little Drummer Boy"\, "Silent Night" and many more!\n\nLimited
  seating available for this wonderful\, musical show! Check your calendar 
 early and make your reservations as we have great seating reserved!\n\nDep
 art:  9:15 a.m.\n\nReturn: 6:45 p.m.\n\nCost Per Person:  $119.00\n\nRes
 ervation and payment due by October 25\, 2016 
ATTACH;FMTTYPE=image/jpeg:https://jhtraveltours.com/wp-content/uploads/201
 6/07/Holly-Jolly-Header.png
CATEGORIES:Day Trip
END:VEVENT
BEGIN:VTIMEZONE
TZID:America/Chicago
X-LIC-LOCATION:America/Chicago
BEGIN:STANDARD
DTSTART:20161106T010000
TZOFFSETFROM:-0500
TZOFFSETTO:-0600
TZNAME:CST
END:STANDARD
END:VTIMEZONE
END:VCALENDAR