BEGIN:VCALENDAR
VERSION:2.0
PRODID:-//wp-events-plugin.com//7.2.3.1//EN
TZID:America/Chicago
X-WR-TIMEZONE:America/Chicago
BEGIN:VEVENT
UID:295@jhtraveltours.com
DTSTART;TZID=America/Chicago:20191003T091500
DTEND;TZID=America/Chicago:20191003T181500
DTSTAMP:20190124T035033Z
URL:https://jhtraveltours.com/events/how-great-thou-art/
SUMMARY:How Great Thou Art - #_LOCATIONNAME - 3 Oct 19 09:15
DESCRIPTION:October 3\, 2019 (Thursday)\n\nJoin JH Travel for a matinee sho
 w at Circa 21 Dinner Playhouse that will provide gospel music and great m
 emories!\n\n\n\nFrom the earliest days of his boyhood until his untimely d
 eath\, gospel music always held a special place in the heart of Elvis Pre
 sley. Before he became the most famous entertainer the world has ever kno
 wn\, as a young man Elvis wanted nothing more than to sing bass in a gospe
 l group. Featuring a large band with a gospel quartet performing such hit
 s as "Peace In The Valley"\, "Amazing Grace" and of course the title trac
 k "How Great Thou Art"\, you're sure to find inspiration and lots of grea
 t memories in this wonderful music.\nHope to have you join us for this spi
 ritual matinee show at Circa 21!\nDepart: 9:15 a.m.\nReturn: 6:15 p.m.\nCo
 st Per Person: $144.00\nReservation and payment due by August 26\, 2019
ATTACH;FMTTYPE=image/jpeg:https://jhtraveltours.com/wp-content/uploads/201
 6/07/How-Great-Thou-Art-Header.png
CATEGORIES:Day Trip
END:VEVENT
BEGIN:VTIMEZONE
TZID:America/Chicago
X-LIC-LOCATION:America/Chicago
BEGIN:DAYLIGHT
DTSTART:20190310T030000
TZOFFSETFROM:-0600
TZOFFSETTO:-0500
TZNAME:CDT
END:DAYLIGHT
END:VTIMEZONE
END:VCALENDAR