BEGIN:VCALENDAR
VERSION:2.0
PRODID:-//wp-events-plugin.com//7.2.3.1//EN
TZID:America/Chicago
X-WR-TIMEZONE:America/Chicago
BEGIN:VEVENT
UID:290@jhtraveltours.com
DTSTART;TZID=America/Chicago;VALUE=DATE:20190814
DTEND;TZID=America/Chicago;VALUE=DATE:20190821
DTSTAMP:20190213T040304Z
URL:https://jhtraveltours.com/events/iceland-2019/
SUMMARY:Iceland 2019 - #_LOCATIONNAME - 14 Aug 19 00:00
DESCRIPTION:[gview file="https://jhtraveltours.com/wp-content/uploads/2018/
 12/Iceland.pdf"]\n\n
ATTACH;FMTTYPE=image/jpeg:https://jhtraveltours.com/wp-content/uploads/201
 8/12/Iceland2019.png
CATEGORIES:Extended Trip
END:VEVENT
BEGIN:VTIMEZONE
TZID:America/Chicago
X-LIC-LOCATION:America/Chicago
BEGIN:DAYLIGHT
DTSTART:20190310T030000
TZOFFSETFROM:-0600
TZOFFSETTO:-0500
TZNAME:CDT
END:DAYLIGHT
END:VTIMEZONE
END:VCALENDAR