BEGIN:VCALENDAR
VERSION:2.0
PRODID:-//wp-events-plugin.com//7.2.3.1//EN
TZID:America/Chicago
X-WR-TIMEZONE:America/Chicago
BEGIN:VEVENT
UID:40@jhtraveltours.com
DTSTART;TZID=America/Chicago:20120604T060000
DTEND;TZID=America/Chicago:20120604T224500
DTSTAMP:20120406T013331Z
URL:https://jhtraveltours.com/events/iowa-shop-hop-north/
SUMMARY:Iowa Shop Hop - North - #_LOCATIONNAME - 4 Jun 12 06:00
DESCRIPTION:Quilters! Did you know about the First Statewide Shop Hop with 
 over 70 participating shops!  Check out the website www.alliowashophop.co
 m for more information and participating shops!\n\nRide – don’t drive!
   Join JH Travel on Monday\, June 4th as our first stop will be in Newton
  at the brand new quilt shop owned by Newton native Laura Jochems.  She n
 amed her store Crazy Red Head Quilting and will be opening at the end of M
 ay. A former church now housing a quilt shop – come to explore!  A muff
 in &amp\; coffee will be ready as we depart and head north.  Our second s
 top will be at Hen &amp\; Chicks Studio in Conrad which has just recently 
 opened.  Our travels take us to Iowa Falls to the Iowa Falls Sewing Machi
 ne Co and then onto The Crazy to Quilt Shop in Cedar Falls.  A box lunch 
 (included) will be delivered to the motor coach to be eaten along the way 
 to Jesup to Merry’s Stitchins.  The Quiltmaker’s Shoppe in Manchester
  will be next to welcome quilt travelers along with a pizza (included) par
 ty aboard our motor coach before departing Manchester.  Connie’s Quilt 
 Shop &amp\; The Cottage Rose in Marion is next on our itinerary as our gro
 up will be divided between the two stores.  Our final stop is in Cedar Ra
 pids at Pine Needles Sewing Center before we board our coach for the retur
 n trip back to Newton.\n\nPlease bring along a quilt block or something to
  show other quilters what you are currently working on.  It is fun to sha
 re your projects! Along with your project each quilt shop will be giving o
 ut a 6” quilt block to complete a Barn Block quilt so a new project can 
 begin!\n\nDon’t wait too long to sign up for this All Iowa Shop Hop tour
 ! A short synopsis for each of the nine stores will be given on the June 4
 th.  Most of the quilt shops on this tour will be providing a short progr
 am on a quilting or sewing project during our visit.  Be sure to invite y
 our friends or quilt group members to come along! Bring some coins\, but n
 o funny money like fat quarters or penny squares!\n\nDepart:  6:00 a.m. 
                                      
                  Return:  10:45 p.m.\n\nReservation and p
 ayment due by May 11\, 2012
CATEGORIES:Day Trip
END:VEVENT
BEGIN:VTIMEZONE
TZID:America/Chicago
X-LIC-LOCATION:America/Chicago
BEGIN:DAYLIGHT
DTSTART:20120311T030000
TZOFFSETFROM:-0600
TZOFFSETTO:-0500
TZNAME:CDT
END:DAYLIGHT
END:VTIMEZONE
END:VCALENDAR