BEGIN:VCALENDAR
VERSION:2.0
PRODID:-//wp-events-plugin.com//7.2.3.1//EN
TZID:America/Chicago
X-WR-TIMEZONE:America/Chicago
BEGIN:VEVENT
UID:79@jhtraveltours.com
DTSTART;TZID=America/Chicago:20130615T063000
DTEND;TZID=America/Chicago:20130615T113000
DTSTAMP:20130228T072129Z
URL:https://jhtraveltours.com/events/iowa-shop-hop-northeast/
SUMMARY:Iowa Shop Hop - Northeast - #_LOCATIONNAME - 15 Jun 13 06:30
DESCRIPTION:Northeast Iowa here we come!! Join JH Travel for this trip as w
 e participate in the second annual “Iowa Shop Hop” event.  Each trave
 ler will receive a featured 6” charm square that is only available throu
 gh participating quilt shops during this special event as well as  travel
 ers will have the opportunity to purchase exclusive Iowa fabric during the
  Shop Hop! Come along and show your support for these nine wonderful quilt
  shops!\n\nOur day will begin with a quick stop at The Crazy Red Head Quil
 ting Shop in Newton for a muffin &amp\; coffee (included)! Then onto Iowa 
 Falls Sewing Machine then further north to Osage where we find Debbie’s 
 Quilt Shop located in a renovated theatre.  Lunch will be delivered by Su
 bway (included) and may be eaten while enroute to Stitches in Charles City
 .  New Hampton offers two quilt shops which are Material Magic and Quilte
 rs Window which was featured in a Quilt Sampler Magazine located in a reno
 vated JC Penney building.  One Block Over will be our next stop in West U
 nion that offers Jinny Beyer fabric.  Forest Mills Quilt Shop nestled in 
 the Yellow River valley by Postville is next on our itinerary followed by 
 a stop at Godfather’s Pizza for our evening meal (included).  Our last 
 stop is at Moose Patch Quilt Shop in Waverly.  They will present a quick 
 demo entitled “A Few of Your Favorite Things While Quilting” before we
  continue on our way home!\n\nWOW! We will be visiting lots of quilt shops
  and we look forward to having YOU join us! Invite family &amp\; friends t
 o join us for this wonderful day trip visiting Iowa quilt shops!
CATEGORIES:Day Trip
END:VEVENT
BEGIN:VTIMEZONE
TZID:America/Chicago
X-LIC-LOCATION:America/Chicago
BEGIN:DAYLIGHT
DTSTART:20130310T030000
TZOFFSETFROM:-0600
TZOFFSETTO:-0500
TZNAME:CDT
END:DAYLIGHT
END:VTIMEZONE
END:VCALENDAR