BEGIN:VCALENDAR
VERSION:2.0
PRODID:-//wp-events-plugin.com//7.2.3.1//EN
TZID:America/Chicago
X-WR-TIMEZONE:America/Chicago
BEGIN:VEVENT
UID:82@jhtraveltours.com
DTSTART;TZID=America/Chicago:20130617T063000
DTEND;TZID=America/Chicago:20130617T191500
DTSTAMP:20130322T021747Z
URL:https://jhtraveltours.com/events/iowa-shop-hop-northwest/
SUMMARY:Iowa Shop Hop - Northwest - #_LOCATIONNAME - 17 Jun 13 06:30
DESCRIPTION:Let’s Go Quilt Shop Hopping! Join JH Travel for our second tr
 ip during the All Iowa Shop Hop in June! Each traveler will receive a feat
 ured 6” charm square that is only available through participating quilt 
 shops during this special event as travelers will also have the opportunit
 y to purchase exclusive Iowa fabrics during the Shop Hop! Come along for a
  fun day of seeing friends\, shopping for just that right piece of fabric 
 and meeting new quilters!\n\nOur day will begin with a quick stop at The C
 razy Red Head Quilting Shop in Newton for a muffin &amp\; coffee (included
 )! Then onto Jefferson to visit The Stitch which you will be able to view 
 Suzanne Sievers Designs.  The Yarn Basket which has been open since 2005 
 welcomes our group next in downtown Carroll. Lunch will be delivered (incl
 uded) and may be eaten enroute to Lake City to shop and view a demonstrati
 on at Towne Square Quilt.  Our next stop is truly a family business which
  is called the Family Quilt Shop located west of Ft Dodge.  Our next quil
 t shop is named after a family member and is displayed as a gallery type s
 hop AND it has an ice cream shop connected to Tillies Quilts! The final sh
 op is the Gingerbread House in Webster City which houses fabric\, gifts an
 d home accessories on two floors!  Pizza will be delivered to our coach t
 o be eaten on our way back to Newton.\n\nHope to have you join us and we l
 ook forward to traveling with you! Come and shop hop with us!
CATEGORIES:Day Trip
END:VEVENT
BEGIN:VTIMEZONE
TZID:America/Chicago
X-LIC-LOCATION:America/Chicago
BEGIN:DAYLIGHT
DTSTART:20130310T030000
TZOFFSETFROM:-0600
TZOFFSETTO:-0500
TZNAME:CDT
END:DAYLIGHT
END:VTIMEZONE
END:VCALENDAR