BEGIN:VCALENDAR
VERSION:2.0
PRODID:-//wp-events-plugin.com//7.2.3.1//EN
TZID:America/Chicago
X-WR-TIMEZONE:America/Chicago
BEGIN:VEVENT
UID:348@jhtraveltours.com
DTSTART;TZID=America/Chicago;VALUE=DATE:20221010
DTEND;TZID=America/Chicago;VALUE=DATE:20221021
DTSTAMP:20210627T004443Z
URL:https://jhtraveltours.com/events/ireland-the-emerald-isle/
SUMMARY:Ireland "The Emerald Isle" - #_LOCATIONNAME - 10 Oct 22 00:00
DESCRIPTION:[pdf-embedder url="https://jhtraveltours.com/wp-content/uploads
 /2021/06/Ireland-the-Emerald-Isle-JH-Travel-2022-flyer.pdf" title="Ireland
  the Emerald Isle JH Travel 2022"]\n\nDownload Brochure here.
CATEGORIES:Extended Trip
END:VEVENT
BEGIN:VTIMEZONE
TZID:America/Chicago
X-LIC-LOCATION:America/Chicago
BEGIN:DAYLIGHT
DTSTART:20220313T030000
TZOFFSETFROM:-0600
TZOFFSETTO:-0500
TZNAME:CDT
END:DAYLIGHT
END:VTIMEZONE
END:VCALENDAR