BEGIN:VCALENDAR
VERSION:2.0
PRODID:-//wp-events-plugin.com//7.2.3.1//EN
TZID:America/Chicago
X-WR-TIMEZONE:America/Chicago
BEGIN:VEVENT
UID:276@jhtraveltours.com
DTSTART;TZID=America/Chicago:20190626T091500
DTEND;TZID=America/Chicago:20190626T184500
DTSTAMP:20180804T035017Z
URL:https://jhtraveltours.com/events/irving-berlins-holiday-inn/
SUMMARY:Irving Berlin's - Holiday Inn - #_LOCATIONNAME - 26 Jun 19 09:15
DESCRIPTION:June 26\, 2019 (Wednesday)\n\n\n\nJoin JH Travel for This Year-
 Round\, Joyous Musical Sure To Delight All Audiences! Matinee show at Cir
 ca 21 Dinner Playhouse in Rock Island\, IL!\n\nSet in 1946\, the story con
 cerns song-and-dance team Jim Hardy and Ted Hanover splitting up when Jim 
 decides to ditch show business and run a farm in rural Connecticut. ​ T
 he farm\, which comes complete with a wisecracking\, live-in handywoman\, 
 proves less than successful. The unexpected visit of Jim's old showbiz bud
 dies inspires him to turn it into an inn open only on holidays\, featuring
  lavish musical entertainments.\n\nBased on the classic film\, this joyous
  musical features thrilling dance numbers\, laugh out loud comedy and a pa
 rade of hit Irving Berlin songs\, including "Blue Skies\," "Heat Wave\," "
 Cheek to Cheek\,” "Easter Parade\," "Steppin' Out With My Baby\," “Hea
 t Wave\,” and "White Christmas."\n\nLooking forward to seeing this nosta
 lgic show while enjoying the well known songs throughout the holiday seaso
 ns!\n\nDepart:  9:15 a.m.\nReturn:  6:45 p.m.\n\nCost Per Person:  $139
 .00\n\nReservation and payment due by June 5\, 2019
ATTACH;FMTTYPE=image/jpeg:https://jhtraveltours.com/wp-content/uploads/201
 8/08/Holiday-Inn.png
CATEGORIES:Day Trip
END:VEVENT
BEGIN:VTIMEZONE
TZID:America/Chicago
X-LIC-LOCATION:America/Chicago
BEGIN:DAYLIGHT
DTSTART:20190310T030000
TZOFFSETFROM:-0600
TZOFFSETTO:-0500
TZNAME:CDT
END:DAYLIGHT
END:VTIMEZONE
END:VCALENDAR