BEGIN:VCALENDAR
VERSION:2.0
PRODID:-//wp-events-plugin.com//7.2.3.1//EN
TZID:America/Chicago
X-WR-TIMEZONE:America/Chicago
BEGIN:VEVENT
UID:312@jhtraveltours.com
DTSTART;TZID=America/Chicago:20191123T121500
DTEND;TZID=America/Chicago:20191123T193000
DTSTAMP:20190801T021223Z
URL:https://jhtraveltours.com/events/irving-berlins-white-christmas/
SUMMARY:Irving Berlin's White Christmas - #_LOCATIONNAME - 23 Nov 19 12:15
DESCRIPTION:We are so excited for this spectacular matinee show at the Des 
 Moines Performing Arts with great seats followed by a wonderful meal at Ch
 icago Speakeasy!\n\nA timeless tale of joy and goodwill\, filled with cla
 ssic Irving Berlin songs\, tops it off with glorious dancing and lots of s
 now to see IRVING BERLIN’S WHITE CHRISTMAS. This is a must-see classic 
 in a lavish new production that the New York Times says to “put on your
  wish list.” IRVING BERLIN’S WHITE CHRISTMAS tells the story of a so
 ng-and-dance team putting on a show in a magical Vermont inn and falling 
 for a stunning sister act in the process. Full of dancing\, laughter and s
 ome of the greatest songs ever written!\n\nFollowing this holiday perform
 ance our meal is hosted by Chicago Speakeasy with a choice of 3  main ent
 ree specials which include: Fresh Atlantic Salmon\, Prime Rib of Beef Aus 
 Jus or Fried Chicken - all served with their famous salad bar\, choice of 
 a side\, bread\, non-alcoholic drink followed by ice cream for dessert. (C
 hoice of main entree is not required at the time of reservation).\n\nDepar
 t:  12:15 p.m.\n\nReturn:  7:30 p.m.\n\nCost Per Person:  $183.00\n\nRe
 servation and payment due by October 1\, 2019 
ATTACH;FMTTYPE=image/jpeg:https://jhtraveltours.com/wp-content/uploads/201
 9/07/Newsletter-Header-2019.png
CATEGORIES:Day Trip
END:VEVENT
BEGIN:VTIMEZONE
TZID:America/Chicago
X-LIC-LOCATION:America/Chicago
BEGIN:STANDARD
DTSTART:20191103T010000
TZOFFSETFROM:-0500
TZOFFSETTO:-0600
TZNAME:CST
END:STANDARD
END:VTIMEZONE
END:VCALENDAR