BEGIN:VCALENDAR
VERSION:2.0
PRODID:-//wp-events-plugin.com//7.2.3.1//EN
TZID:America/Chicago
X-WR-TIMEZONE:America/Chicago
BEGIN:VEVENT
UID:196@jhtraveltours.com
DTSTART;TZID=America/Chicago:20170319T111500
DTEND;TZID=America/Chicago:20170319T193000
DTSTAMP:20160813T230448Z
URL:https://jhtraveltours.com/events/jersey-boys-2017/
SUMMARY:Jersey Boys - #_LOCATIONNAME - 19 Mar 17 11:15
DESCRIPTION:Jersey Boys is the Tony\, Grammy and Olivier Award winning Best
  Musical about Rock and Roll Hall of Famers The Four Seasons: Frankie Vall
 i\, Tommy DeVito\, Bob Gaudio and Nick Massi. This is the true story of ho
 w four blue-collar kids became one of the greatest successes in pop music 
 history. They wrote their own songs\, invented their own sounds and sold 1
 75 million records worldwide - all before they were 30! Hit songs as in "S
 herry"\, "Big Girls Don't Cry"\, "Rag Doll"\, "Oh What a Night" and "Can't
  take My Eyes Off of You"! \nFollowing this matinee show an evening meal w
 ill be served at LeJardin with a salad\, main course and dessert. When mak
 ing your reservation a main entree choice needs to given with the followin
 g choices: BBQ glazed chicken or oven roasted pork loin. \n\nWorldwide\, m
 ore than 20 million people have seen Jersey Boys and so should you! Join u
 s for an afternoon of Rock and Roll music and enjoying time with friends! 
 \n\nDepart: 11:15 a.m. \n\nReturn: 7:30 p.m. \n\nCost Per Person: $172.00 
 \n\nReservation due by January 25\, 2017 
ATTACH;FMTTYPE=image/jpeg:https://jhtraveltours.com/wp-content/uploads/201
 6/08/JerseyBoys.png
CATEGORIES:Day Trip
END:VEVENT
BEGIN:VTIMEZONE
TZID:America/Chicago
X-LIC-LOCATION:America/Chicago
BEGIN:DAYLIGHT
DTSTART:20170312T030000
TZOFFSETFROM:-0600
TZOFFSETTO:-0500
TZNAME:CDT
END:DAYLIGHT
END:VTIMEZONE
END:VCALENDAR