BEGIN:VCALENDAR
VERSION:2.0
PRODID:-//wp-events-plugin.com//7.2.3.1//EN
TZID:America/Chicago
X-WR-TIMEZONE:America/Chicago
BEGIN:VEVENT
UID:60@jhtraveltours.com
DTSTART;TZID=America/Chicago:20130730T161500
DTEND;TZID=America/Chicago:20130730T224500
DTSTAMP:20121221T040619Z
URL:https://jhtraveltours.com/events/jersey-boys/
SUMMARY:Jersey Boys - #_LOCATIONNAME - 30 Jul 13 16:15
DESCRIPTION:Enjoy rock n’ roll music and great food?  Join JH Travel for
  a wonderful meal at The Cinder House in Prairie City followed by the even
 ing production of “Jersey Boys” at the Civic Center of Greater Des Moi
 nes!\n\n"Too good to be true!" raves the New York Post for JERSEY BOYS\, t
 he 2006 Tony Award®-winning Best Musical about Rock and Roll Hall of Fame
 rs The Four Seasons: Frankie Valli\, Bob Gaudio\, Tommy DeVito and Nick Ma
 ssi. This is the story of how four blue-collar kids became one of the grea
 test successes in pop music history. They wrote their own songs\, invented
  their own sounds and sold 175 million records worldwide – all before th
 ey were 30! JERSEY BOYS\, winner of the 2006 Grammy® Award for Best Music
 al Show Album and most recently\, the 2009 Olivier Award for Best New Musi
 cal\, features their hit songs "Sherry\," "Big Girls Don’t Cry\," "Rag D
 oll\," "Oh What a Night" and "Can’t Take My Eyes Off You."\n\nThe Cinder
  House welcomes JH Travel for our evening meal with three main entrée cho
 ices:\n\n	Seared Steak Medallions\n	Phyllo Baked Tilapia\n	Chicken Cordon 
 Blue\n\nEach entrée will be served with a strawberry salad\, garlic mashe
 d potatoes and roasted asparagus and a dessert choice of crème brulee or 
 a molten lava cake along with a non-alcoholic drink.  When making your re
 servation for this trip a choice of main entrée will be needed. 
CATEGORIES:Day Trip
LOCATION:#_LOCATIONNAME\, #_LOCATIONFULLLINE\, #_LOCATIONCOUNTRY
GEO:41.5869;-93.62
X-APPLE-STRUCTURED-LOCATION;VALUE=URI;X-ADDRESS=#_LOCATIONFULLLINE\, #_LOCA
 TIONCOUNTRY;X-APPLE-RADIUS=100;X-TITLE=#_LOCATIONNAME:geo:41.5869,-93.62
END:VEVENT
BEGIN:VTIMEZONE
TZID:America/Chicago
X-LIC-LOCATION:America/Chicago
BEGIN:DAYLIGHT
DTSTART:20130310T030000
TZOFFSETFROM:-0600
TZOFFSETTO:-0500
TZNAME:CDT
END:DAYLIGHT
END:VTIMEZONE
END:VCALENDAR