BEGIN:VCALENDAR
VERSION:2.0
PRODID:-//wp-events-plugin.com//7.2.3.1//EN
TZID:America/Chicago
X-WR-TIMEZONE:America/Chicago
BEGIN:VEVENT
UID:386@jhtraveltours.com
DTSTART;TZID=America/Chicago:20221203T101500
DTEND;TZID=America/Chicago:20221203T180000
DTSTAMP:20221010T160635Z
URL:https://jhtraveltours.com/events/jim-mcdonoughs-20th-anniversary-chris
 tmas-tour/
SUMMARY:Jim McDonough's 20th Anniversary Christmas Tour - #_LOCATIONNAME - 
 3 Dec 22 10:15
DESCRIPTION:Join JH Travel to celebrate the holiday season at Hoyt Sherman 
 Place Theater in style at this matinee show celebrating the return of one 
 of Iowa's most treasured holiday traditions!  Featuring International Ste
 inway Artist and Iowa’s own pianist\, Jim McDonough. This year's stage p
 roduction features Jim on his concert piano\, alongside his 14-piece profe
 ssional orchestra\, performing spectacular arrangements of all your favori
 te Christmas music and other all time hits!\n\nThis two hour production is
  a grand combination of sensational music\, beautiful visuals and the true
  spirit of the season. Enjoy the production from our center section seats 
 located close to the stage – so we won’t miss a thing! Jim has enterta
 ined hundreds of thousands in venues from cruise ships to concert halls.\n
 \nOur host for lunch prior to the show will be Iowa Machine Shed in Urband
 ale\, IA where a family style meal will be served complete with cobbler &a
 mp\; ice cream for dessert.\n\nThis is our eleventh time in seeing this sp
 ectacular pianist and each time our travelers are even more “WOWED” by
  this young performer! Leave Hoyt Sherman Place “feeling the magic of th
 e season” after this performance!  Sit back and “no worries” about 
 the weather as we leave the drive to the Hawkeye Stages driver!\n\n&nbsp\;
 \n\nDepart:  10:15 a.m.\n\nReturn:  6:00 p.m.\n\nCost Per Person: $199.0
 0\n\n&nbsp\;\n\nReservation and payment due by October 31\, 2022
ATTACH;FMTTYPE=image/jpeg:https://jhtraveltours.com/wp-content/uploads/202
 2/10/Jim-McDonough.webp
CATEGORIES:Day Trip
END:VEVENT
BEGIN:VTIMEZONE
TZID:America/Chicago
X-LIC-LOCATION:America/Chicago
BEGIN:STANDARD
DTSTART:20221106T010000
TZOFFSETFROM:-0500
TZOFFSETTO:-0600
TZNAME:CST
END:STANDARD
END:VTIMEZONE
END:VCALENDAR