BEGIN:VCALENDAR
VERSION:2.0
PRODID:-//wp-events-plugin.com//7.2.3.1//EN
TZID:America/Chicago
X-WR-TIMEZONE:America/Chicago
BEGIN:VEVENT
UID:237@jhtraveltours.com
DTSTART;TZID=America/Chicago:20171126T104500
DTEND;TZID=America/Chicago:20171126T174500
DTSTAMP:20170829T024416Z
URL:https://jhtraveltours.com/events/jim-mcdonoughs-holiday-grande-2017/
SUMMARY:Jim McDonough's Holiday Grande 2017 - #_LOCATIONNAME - 26 Nov 17 10
 :45
DESCRIPTION:\n\nCome along and join JH Travel to celebrate the holiday seas
 on at Hoyt Sherman Place Theater in style at this matinee show!  An elega
 nt\, all new stage production featuring International Steinway Artist and 
 Iowa’s own pianist\, Jim McDonough.  Jim will be joined by his 14 piece
  professional orchestra and a cast of sensational singers and dancers perf
 orming your favorite Christmas music and other all-time favorites.  This 
 two hour production is a grand combination of beautiful music\, spectacula
 r sets and costumes\, and the spirit of the season. Enjoy the production f
 rom our center section seats located close to the stage – so we won’t 
 miss a thing! Jim has entertained hundreds of thousands in venues from cru
 ise ships to concert halls.  He has a variety of recordings in over 800 g
 ift shops and music stores across the country.\n\nOur host for lunch prior
  to the show will be Texas Roadhouse in Urbandale.  A main entree choice
  will need to be given when making a reservation in which the entrees are
 :   1).  Oven roasted chicken 2). New York Strip 3). Grilled salmon din
 ner. Each plate will be served with a choice of two sides\, drink and dess
 ert - which can be given upon arrival.\n\nThis is our eighth time in seein
 g this spectacular pianist and each time our travelers are just “WOWED
 ” by this young performer! Leave Hoyt Sherman Place “feeling the magic
  of the season” after this performance!  Sit back and “no worries” 
 about the weather as we leave the drive to the Hawkeye Stages driver!\n\nD
 ON'T WAIT TOO LONG TO MAKE YOUR RESERVATIONS AS WE ARE HALF FULL ALREADY!!
  \n\nDepart:  10:45 a.m.\nReturn:  5:45 p.m.\n\nCost Per Person:  $142.
 00\n\nReservation and payment due by October 19\, 2017 
ATTACH;FMTTYPE=image/jpeg:https://jhtraveltours.com/wp-content/uploads/201
 7/08/Jim-McDonough.png
CATEGORIES:Day Trip
END:VEVENT
BEGIN:VTIMEZONE
TZID:America/Chicago
X-LIC-LOCATION:America/Chicago
BEGIN:STANDARD
DTSTART:20171105T010000
TZOFFSETFROM:-0500
TZOFFSETTO:-0600
TZNAME:CST
END:STANDARD
END:VTIMEZONE
END:VCALENDAR