BEGIN:VCALENDAR
VERSION:2.0
PRODID:-//wp-events-plugin.com//7.2.3.1//EN
TZID:America/Chicago
X-WR-TIMEZONE:America/Chicago
BEGIN:VEVENT
UID:277@jhtraveltours.com
DTSTART;TZID=America/Chicago:20181216T104500
DTEND;TZID=America/Chicago:20181216T174500
DTSTAMP:20180907T023611Z
URL:https://jhtraveltours.com/events/jim-mcdonoughs-holiday-grande-2018/
SUMMARY:Jim McDonough's Holiday Grande 2018 - #_LOCATIONNAME - 16 Dec 18 10
 :45
DESCRIPTION:\n\nCome along and join JH Travel to celebrate the holiday seas
 on at Hoyt Sherman Place Theater in style at this matinee show! An all new
  Christmas show featuring International Steinway Artist and Iowa’s own p
 ianist\, Jim McDonough. Jim will be joined by his 14 piece professional or
 chestra and a cast of sensational singers and dancers performing your favo
 rite Christmas music and other all-time favorites. This two hour productio
 n is a grand combination of beautiful music\, spectacular sets and costume
 s\, and the true spirit of the season. Enjoy the production from our cente
 r section seats located close to the stage – so we won’t miss a thing!
  Jim has entertained hundreds of thousands in venues from cruise ships to 
 concert halls. He has a variety of recordings in over 800 gift shops and m
 usic stores across the country.\n\nOur host for lunch prior to the show wi
 ll be Texas Roadhouse in Urbandale. A\nmain entree choice will need to be 
 given when making a reservation in which the entrees\nare: 1). Grilled Sal
 mon 2). BBQ Pulled Pork Dinner 3).Sirloin Steak. Each plate will\nbe serve
 d with a choice of two sides\, drink and dessert.\n\nThis is our ninth tim
 e in seeing this spectacular pianist and each time our travelers are just 
 “WOWED” by this young performer! Leave Hoyt Sherman Place “feeling t
 he magic of the season” after this performance! Sit back and “no worri
 es” about the weather as we leave the drive to the Hawkeye Stages driver
 !\n\nDepart: 10:45 a.m.\nReturn: 5:45 p.m.\n\nCost Per Person: $142.00\n\n
 Reservation and payment due by November 8\, 2018
ATTACH;FMTTYPE=image/jpeg:https://jhtraveltours.com/wp-content/uploads/201
 8/09/HolidayGrande2018.jpg
CATEGORIES:Day Trip
END:VEVENT
BEGIN:VTIMEZONE
TZID:America/Chicago
X-LIC-LOCATION:America/Chicago
BEGIN:STANDARD
DTSTART:20181104T010000
TZOFFSETFROM:-0500
TZOFFSETTO:-0600
TZNAME:CST
END:STANDARD
END:VTIMEZONE
END:VCALENDAR