BEGIN:VCALENDAR
VERSION:2.0
PRODID:-//wp-events-plugin.com//7.2.3.1//EN
TZID:America/Chicago
X-WR-TIMEZONE:America/Chicago
BEGIN:VEVENT
UID:314@jhtraveltours.com
DTSTART;TZID=America/Chicago:20191207T104500
DTEND;TZID=America/Chicago:20191207T174500
DTSTAMP:20190809T012712Z
URL:https://jhtraveltours.com/events/jim-mcdonoughs-holiday-grande-2019/
SUMMARY:Jim McDonough's Holiday Grande 2019 - #_LOCATIONNAME - 7 Dec 19 10:
 45
DESCRIPTION:\n\nDecember 7\,  2019 (Saturday) \n\nCome along and join JH T
 ravel to celebrate the holiday season at Hoyt Sherman Place Theater in sty
 le at this matinee show!  An all new Christmas show featuring Internation
 al Steinway Artist and Iowa’s own pianist\, Jim McDonough.  Jim will be
  joined by his 14 piece professional orchestra and a cast of sensational s
 ingers and dancers performing your favorite Christmas music and other all-
 time favorites.  This two hour production is a grand combination of beaut
 iful music\, spectacular sets and costumes\, and the true spirit of the se
 ason. Enjoy the production from our center section seats located close to 
 the stage – so we won’t miss a thing! Jim has entertained hundreds of 
 thousands in venues from cruise ships to concert halls.  He has a variety
  of recordings in over 800 gift shops and music stores across the country.
 \n\nOur host for lunch prior to the show will be Iowa Machine Shed in Urba
 ndale\, IA where a family style meal will be served complete with cinnamon
  ice cream for dessert.\n\nThis is our tenth time in seeing this spectacul
 ar pianist and each time our travelers are even more “WOWED” by this y
 oung performer! Leave Hoyt Sherman Place “feeling the magic of the seaso
 n” after this performance!  Sit back and “no worries” about the wea
 ther as we leave the drive to the Hawkeye Stages driver!\n\nDepart:  10:4
 5 a.m.\n\nReturn:  5:45 p.m.\n\nCost Per Person: $144.00\n\nReservation a
 nd payment due by November 1\, 2019
ATTACH;FMTTYPE=image/jpeg:https://jhtraveltours.com/wp-content/uploads/201
 9/08/Jim-McDonough-and-His-Orchestra-Singers.jpg
CATEGORIES:Day Trip
END:VEVENT
BEGIN:VTIMEZONE
TZID:America/Chicago
X-LIC-LOCATION:America/Chicago
BEGIN:STANDARD
DTSTART:20191103T010000
TZOFFSETFROM:-0500
TZOFFSETTO:-0600
TZNAME:CST
END:STANDARD
END:VTIMEZONE
END:VCALENDAR