BEGIN:VCALENDAR
VERSION:2.0
PRODID:-//wp-events-plugin.com//7.2.3.1//EN
TZID:America/Chicago
X-WR-TIMEZONE:America/Chicago
BEGIN:VEVENT
UID:267@jhtraveltours.com
DTSTART;TZID=America/Chicago:20181006T121500
DTEND;TZID=America/Chicago:20181006T190000
DTSTAMP:20180804T040305Z
URL:https://jhtraveltours.com/events/john-denver-musical-tribute/
SUMMARY:John Denver Musical Tribute - #_LOCATIONNAME - 6 Oct 18 12:15
DESCRIPTION:Singer\, songwriter and tribute artist\, Ted Vigil's uncanny re
 semblance to iconic singer\, songwriter\, John Denver will take the audien
 ce on a nostalgic ride with popular songs like "Thank God I'm a Country Bo
 y"\, "Rocky Mountain High"\, "Sunshine on My Shoulder" and many more.  Te
 d Vigil has played twice for John Denver’s own “Windstar Foundation”
  in Aspen\, CO. He has been awarded the Rising Legend Award by the Nationa
 l Traditional Country Music Association! Ted will keep you clapping and si
 nging with tears to your eyes.  He's got that same earthy\, crunchy grano
 la\, "environmentalist" spirit as John.  His looks and voice are uncanny!
 \n\nHis shows sold out incredibly quickly the last time he performed at th
 e Old Creamery\, so don't wait to get your seats!\n\nJoin JH Travel for th
 is entertaining matinee show followed by an evening meal at the Coffee Cup
  Cafe in Sully\, Iowa.  Enjoy broasted chicken and all the fixin's\, nost
 algic music and traveling with friends!\n\nDepart:  12:15 p.m.\nReturn: 
  7:00 p.m.\n\nCost Per Person:  $139.00\n\nReservation and payment due by
  September 13\, 2018 
ATTACH;FMTTYPE=image/jpeg:https://jhtraveltours.com/wp-content/uploads/201
 8/06/JohnDenverTribute-Button.jpg
CATEGORIES:Day Trip
END:VEVENT
BEGIN:VTIMEZONE
TZID:America/Chicago
X-LIC-LOCATION:America/Chicago
BEGIN:DAYLIGHT
DTSTART:20180311T030000
TZOFFSETFROM:-0600
TZOFFSETTO:-0500
TZNAME:CDT
END:DAYLIGHT
END:VTIMEZONE
END:VCALENDAR