BEGIN:VCALENDAR
VERSION:2.0
PRODID:-//wp-events-plugin.com//7.2.3.1//EN
TZID:America/Chicago
X-WR-TIMEZONE:America/Chicago
BEGIN:VEVENT
UID:180@jhtraveltours.com
DTSTART;TZID=America/Chicago:20161112T160000
DTEND;TZID=America/Chicago:20161112T224500
DTSTAMP:20160202T041642Z
URL:https://jhtraveltours.com/events/john-denver-tribute/
SUMMARY:John Denver Tribute - #_LOCATIONNAME - 12 Nov 16 16:00
DESCRIPTION:*Evening Show*\n\nSinger\, songwriter and tribute artist\, Ted 
 Vigil's uncanny resemblance to iconic singer\, songwriter\, John Denver wi
 ll take the audience on a nostalgic ride with popular songs like "Thank Go
 d I'm a Country Boy"\, "Rocky Mountain High"\, "Sunshine on My Shoulder" a
 nd many more.  Ted will keep you clapping and singing all night long and 
 he'll bring tears to your eyes.  He's got that same earthy\, crunchy gran
 ola\, "environmentalist" spirit as John.  His looks and voice are uncanny
 !\n\nJoin JH Travel for this entertaining evening beginning with an evenin
 g meal at the Ronneburg Restaurant in Amana\, Iowa.  Enjoy your favorite 
 Amana food\, nostalgic music and traveling with friends!\n\nDepart:  4:00
  p.m.\nReturn:  10:45 p.m.\n\nCost Per Person:  $116.00\n\nReservation a
 nd payment due by October 18\, 2016 
ATTACH;FMTTYPE=image/jpeg:https://jhtraveltours.com/wp-content/uploads/201
 6/01/TedVigil.jpg
CATEGORIES:Day Trip
END:VEVENT
BEGIN:VTIMEZONE
TZID:America/Chicago
X-LIC-LOCATION:America/Chicago
BEGIN:STANDARD
DTSTART:20161106T010000
TZOFFSETFROM:-0500
TZOFFSETTO:-0600
TZNAME:CST
END:STANDARD
END:VTIMEZONE
END:VCALENDAR