BEGIN:VCALENDAR
VERSION:2.0
PRODID:-//wp-events-plugin.com//7.2.3.1//EN
TZID:America/Chicago
X-WR-TIMEZONE:America/Chicago
BEGIN:VEVENT
UID:361@jhtraveltours.com
DTSTART;TZID=America/Chicago:20220511T091500
DTEND;TZID=America/Chicago:20220511T183000
DTSTAMP:20211130T220644Z
URL:https://jhtraveltours.com/events/just_desserts/
SUMMARY:Just Desserts - #_LOCATIONNAME - 11 May 22 09:15
DESCRIPTION:Join JH Travel for a "sweet" matinee show at Circa 21 Dinner Pl
 ayhouse with the story as follows. . . . .  \n\nIt’s sweet. It’s savo
 ry. It’s five strangers putting their hearts\, reputations\, and baking 
 skills on the line to become the crème de la crème of bakers at a county
  fair. The heat is on to create three different types of desserts during t
 he finals. A determined young woman dreaming of opening her own bakery. A 
 sexy nail technician who wants to fit in. A shy school nurse who doesn’t
  want to be there at all. A mysterious man from Brooklyn who arouses suspi
 cion about his past. And the reigning champion who is confident she’ll g
 arner yet another victory this year.  They’ll all get their just desser
 ts at the Jefferson County Bake-Off! There’s a little mystery\, a littl
 e romance\, some potential cheating\, and some back-stabbing — exactly w
 hat you expect when the competition is fierce — and the results are deli
 ciously satisfying!\n\nHope to have you join us for a fun afternoon away! 
 Be sure to sign up early as this trip will be a popular one!\n\nDepart:  
 9:15 a.m.\n\nReturn:  6:30 p.m.\n\nCost Per Person: $152.00\n\nReservatio
 n and payment due by April 4\, 2022 
CATEGORIES:Day Trip
END:VEVENT
BEGIN:VTIMEZONE
TZID:America/Chicago
X-LIC-LOCATION:America/Chicago
BEGIN:DAYLIGHT
DTSTART:20220313T030000
TZOFFSETFROM:-0600
TZOFFSETTO:-0500
TZNAME:CDT
END:DAYLIGHT
END:VTIMEZONE
END:VCALENDAR